BEGIN:VCALENDAR
VERSION:2.0
PRODID:-//ChamberMaster//Event Calendar 2.0//EN
METHOD:PUBLISH
X-PUBLISHED-TTL:P3D
REFRESH-INTERVAL:P3D
CALSCALE:GREGORIAN
BEGIN:VEVENT
DTSTART:20200802T130000Z
DTEND:20200802T170000Z
X-MICROSOFT-CDO-ALLDAYEVENT:FALSE
SUMMARY:American Heart Association Family & Friends Basic CPR AED Course (Non-Certification Course)
DESCRIPTION:The Family & Friends CPR Course teaches the lifesaving skills of adult Hands-Only  CPR\, adult CPR with breaths\, child CPR with breaths\, adult and child AED use\, infant CPR with breaths and relief of choking in an adult\, child or infant. Skills are taught in a dynamic group environment by using the AHA's research-proven practice-while-watching technique\, which provides students with the most hands-on CPR practice time possible. Family & Friends CPR is for people who want to learn CPR but do not require a certification card in CPR for their job. This course is ideal for schools\, community groups\, new parents\, grandparents\, babysitters and others interested in learning how to save a life. This course is NOT suitable community professions that require a CPR certification card. This class is a 4-hour training. Class is offered free of charge year round for all our scheduled courses. Class sizes are restricted meaning that prior registration is required. WE WILL NOT ACCOMMODATE ANY WALK-IN STUDENTS.
X-ALT-DESC;FMTTYPE=text/html:The Family &amp\; Friends CPR Course teaches the lifesaving skills of adult Hands-Only&reg\; CPR\, adult CPR with breaths\, child CPR with breaths\, adult and child AED use\, infant CPR with breaths and relief of choking in an adult\, child or infant. Skills are taught in a dynamic group environment by using the AHA&rsquo\;s research-proven practice-while-watching technique\, which provides students with the most hands-on CPR practice time possible. Family &amp\; Friends CPR is for people who want to learn CPR but do not require a certification card in CPR for their job. This course is ideal for schools\, community groups\, new parents\, grandparents\, babysitters and others interested in learning how to save a life. This course is NOT suitable community professions that require a CPR certification card. This class is a 4-hour training. Class is offered free of charge year round for all our scheduled courses. Class sizes are restricted meaning that prior registration is required. WE WILL NOT ACCOMMODATE ANY WALK-IN STUDENTS.
LOCATION:Northern Dutchess Hospital 6511 Springbrook Ave. Cafe Conference Room Rhinebeck\, NY 12572
UID:e.2770.10484163
SEQUENCE:3
DTSTAMP:20260422T015711Z
URL:https://business.dcrcoc.org/events/details/american-heart-association-family-friends-basic-cpr-aed-course-non-certification-course-10484163
END:VEVENT

END:VCALENDAR
