BEGIN:VCALENDAR
VERSION:2.0
PRODID:-//ChamberMaster//Event Calendar 2.0//EN
METHOD:PUBLISH
X-PUBLISHED-TTL:P3D
REFRESH-INTERVAL:P3D
CALSCALE:GREGORIAN
BEGIN:VEVENT
DTSTART:20200822T130000Z
DTEND:20200822T190000Z
X-MICROSOFT-CDO-ALLDAYEVENT:FALSE
SUMMARY:American Heart Association Pediatric Advanced Life Support (PALS) Update Course
DESCRIPTION:This abridged update course is for students renewing their PALS certification. If you have already expired or have not taken the course before please see the PALS Provider Course. The AHA's PALS Course has been updated to reflect new science in the 2015 AHA Guidelines Update for CPR and ECC. This classroom\, Instructor-led course uses a series of videos and simulated pediatric emergencies to reinforce the important concepts of a systematic approach to pediatric assessment\, basic life support\, PALS treatment algorithms\, effective resuscitation\, and team dynamics. The goal of the PALS Course is to improve the quality of care provided to seriously ill or injured children\, resulting in improved outcomes. You will need to review your text before class and complete the pre-course assessment. Information on how to access the pre-course assessment is on page ii of the text. The text is mailed once your registration is processed so please register at least 10 days prior to the class date. Fee: $185.00 includes text. Successful course completion results in a two-year PALS certification from the American Heart Association. THE PALS TEXTBOOK IS REQUIRED FOR THIS CLASS. If you need the textbook please select PALS Update w/text at $185.00. Should you already have the current textbook and do not need a text please select PALS Update no Text at $145.00. YOU MUST BRING YOUR TEXTBOOK AND ASSESSMENT RESULTS PRINTED OUT TO CLASS WITH YOU. Class sizes are restricted meaning that prior registration and payment is required. WE WILL NOT ACCOMMODATE ANY WALK-IN STUDENTS. Nuvance Health Employees should email Wendy.Hennessy@NuvanceHealth.org for the latest promotion codes available prior to signing up.
X-ALT-DESC;FMTTYPE=text/html:This abridged update course is for students renewing their PALS certification. If you have already expired or have not taken the course before please see the PALS Provider Course. The AHA&rsquo\;s PALS Course has been updated to reflect new science in the 2015 AHA Guidelines Update for CPR and ECC. This classroom\, Instructor-led course uses a series of videos and simulated pediatric emergencies to reinforce the important concepts of a systematic approach to pediatric assessment\, basic life support\, PALS treatment algorithms\, effective resuscitation\, and team dynamics. The goal of the PALS Course is to improve the quality of care provided to seriously ill or injured children\, resulting in improved outcomes. You will need to review your text before class and complete the pre-course assessment. Information on how to access the pre-course assessment is on page ii of the text. The text is mailed once your registration is processed so please register at least 10 days prior to the class date. Fee: $185.00 includes text. Successful course completion results in a two-year PALS certification from the American Heart Association. THE PALS TEXTBOOK IS REQUIRED FOR THIS CLASS. If you need the textbook please select PALS Update w/text at $185.00. Should you already have the current textbook and do not need a text please select PALS Update no Text at $145.00. YOU MUST BRING YOUR TEXTBOOK AND ASSESSMENT RESULTS PRINTED OUT TO CLASS WITH YOU. Class sizes are restricted meaning that prior registration and payment is required. WE WILL NOT ACCOMMODATE ANY WALK-IN STUDENTS. Nuvance Health Employees should email Wendy.Hennessy@NuvanceHealth.org for the latest promotion codes available prior to signing up.
LOCATION:Vassar Brothers Medical Center 45 Reade Place Conference Room B - 1st Floor Poughkeepsie\, NY 12601
UID:e.2770.10484169
SEQUENCE:3
DTSTAMP:20260422T015741Z
URL:https://business.dcrcoc.org/events/details/american-heart-association-pediatric-advanced-life-support-pals-update-course-10484169
END:VEVENT

END:VCALENDAR
