BEGIN:VCALENDAR
VERSION:2.0
PRODID:-//ChamberMaster//Event Calendar 2.0//EN
METHOD:PUBLISH
X-PUBLISHED-TTL:P3D
REFRESH-INTERVAL:P3D
CALSCALE:GREGORIAN
BEGIN:VEVENT
DTSTART:20180510T220000Z
DTEND:20180511T020000Z
X-MICROSOFT-CDO-ALLDAYEVENT:FALSE
SUMMARY:American Red Cross Mid-Hudson Valley 2018 - An Evening With Your Local Red Cross
DESCRIPTION:After home fires\, through ice storms and in times of true crisis\, the American Red Cross is there. Every day\, we bring help and hope to those who need it most. Please join us at the 2018 An Evening with Your Local Red Cross! Enjoy dinner\, dancing and much more while helping to support our life-saving mission. All proceeds will benefit the American Red Cross of the Mid-Hudson Valley\, serving Columbia\, Dutchess\, Greene\, and Ulster counties.
X-ALT-DESC;FMTTYPE=text/html:After home fires\, through ice storms and in times of true crisis\, the American Red Cross is there. Every day\, we bring help and hope to those who need it most. Please join us at the 2018 An Evening with Your Local Red Cross! Enjoy dinner\, dancing and much more while helping to support our life-saving mission. All proceeds will benefit the American Red Cross of the Mid-Hudson Valley\, serving Columbia\, Dutchess\, Greene\, and Ulster counties.
LOCATION:176 Rinaldi Boulevard Poughkeepsie\, NY 12601
UID:e.2770.10476818
SEQUENCE:3
DTSTAMP:20260425T182131Z
URL:https://business.dcrcoc.org/events/details/american-red-cross-mid-hudson-valley-2018-an-evening-with-your-local-red-cross-10476818
END:VEVENT

END:VCALENDAR
