BEGIN:VCALENDAR
VERSION:2.0
PRODID:-//ChamberMaster//Event Calendar 2.0//EN
METHOD:PUBLISH
X-PUBLISHED-TTL:P3D
REFRESH-INTERVAL:P3D
CALSCALE:GREGORIAN
BEGIN:VEVENT
DTSTART:20180811T003000Z
DTEND:20180811T030000Z
X-MICROSOFT-CDO-ALLDAYEVENT:FALSE
SUMMARY:Amrod Band plays The Alley Kat!
DESCRIPTION:The Amrod Band brings Country Funk to the Alley Kat! We've got gourmet wood fired pizza\, 14 varieties of beer on tap and top shelf liquor along with the fabulous sounds of the Amrod Band!\n\n\n\nCheck out the event details on our Facebook page:\n\nAmrod Band plays The Alley Kat!
X-ALT-DESC;FMTTYPE=text/html:<span style="color:rgb(29\, 33\, 41)\; font-family:system-ui\,-apple-system\,blinkmacsystemfont\,.sfnstext-regular\,sans-serif\; font-size:14px">The Amrod Band brings Country Funk to the Alley Kat! We&#39\;ve got gourmet wood fired pizza\, 14 varieties of beer on tap and top shelf liquor along with the fabulous sounds of the Amrod Band!</span><br />\n<br />\nCheck out the event details on our Facebook page:<br />\n<a href="https://www.facebook.com/events/229917694516216/">Amrod Band plays The Alley Kat!</a>
LOCATION:The Alley Kat 1677 US 9 Wappingers Falls\, New York\, NY 12590
UID:e.2770.10479438
SEQUENCE:3
DTSTAMP:20260425T144356Z
URL:https://business.dcrcoc.org/events/details/amrod-band-plays-the-alley-kat-10479438
END:VEVENT

END:VCALENDAR
