BEGIN:VCALENDAR
VERSION:2.0
PRODID:-//ChamberMaster//Event Calendar 2.0//EN
METHOD:PUBLISH
X-PUBLISHED-TTL:P3D
REFRESH-INTERVAL:P3D
CALSCALE:GREGORIAN
BEGIN:VEVENT
DTSTART:20171001T180000Z
DTEND:20171001T200000Z
X-MICROSOFT-CDO-ALLDAYEVENT:FALSE
SUMMARY:An Afternoon with Artist Anthony Freda
DESCRIPTION:Join Monte's as they host an afternoon of art and refreshment in honor of Lucky Orphans Horse Rescue. Based in Long Island NY\, acclaimed artist Anthony Freda works as an editorial illustrator\, visual political activist and as part of the adjunct faculty of the Fashion Institute of Technology in New York. In addition to many mainstream clients\, such as Time\, The New Yorker\, Rolling Stone and The New York Times\, he also contributes to many alternative news websites and publication\, such as Code Pink\, Activist Post\, Washington's Blog\,Global Research\, Cindy Sheehan's The Soapbox and The Trends Journal. In 2006 The Village Voice commissioned Freda to illustrate a story about people who challenge the official 9/11 narrative\, the artwork has since become part of the permanent collection of the US National September 11th Museum in New York.
X-ALT-DESC;FMTTYPE=text/html:Join Monte&#39\;s as they host an afternoon of art and refreshment in honor of Lucky Orphans Horse Rescue. Based in Long Island NY\, acclaimed artist Anthony Freda works as an editorial illustrator\, visual political activist and as part of the adjunct faculty of the Fashion Institute of Technology in New York. In addition to many mainstream clients\, such as Time\, The New Yorker\, Rolling Stone and The New York Times\, he also contributes to many alternative news websites and publication\, such as Code Pink\, Activist Post\, Washington&rsquo\;s Blog\,Global Research\, Cindy Sheehan&rsquo\;s The Soapbox and The Trends Journal. In 2006 The Village Voice commissioned Freda to illustrate a story about people who challenge the official 9/11 narrative\, the artwork has since become part of the permanent collection of the US National September 11th Museum in New York.
LOCATION:Monte's Local Kitchen & Tap Room 3330 Route 343\, Amenia\, New York 12501
UID:e.2770.10476295
SEQUENCE:3
DTSTAMP:20260426T033354Z
URL:https://business.dcrcoc.org/events/details/an-afternoon-with-artist-anthony-freda-10476295
END:VEVENT

END:VCALENDAR
