BEGIN:VCALENDAR
VERSION:2.0
PRODID:-//ChamberMaster//Event Calendar 2.0//EN
METHOD:PUBLISH
X-PUBLISHED-TTL:P3D
REFRESH-INTERVAL:P3D
CALSCALE:GREGORIAN
BEGIN:VEVENT
DTSTART:20180916T000000Z
DTEND:20180916T030000Z
X-MICROSOFT-CDO-ALLDAYEVENT:FALSE
SUMMARY:An Evening with Soul Purpose at The Alley Kat!
DESCRIPTION:Join Soul Purpose at the Alley Kat in Wappingers Falls and enjoy an evening of R&B\, Swing\, Jump Blues\, Smooth Soul and New Orleans Funk! We have an expansive gourmet wood fired pizza menu\, 14 varieties of beer on tap and top shelf liquor! Great food\, great music\, great times!\n\n\n\nCheck out the event details on our Facebook page:\n\nAn Evening with Soul Purpose
X-ALT-DESC;FMTTYPE=text/html:<div>\n<div><span style="color:rgb(29\, 33\, 41)\; font-size:14px">Join Soul Purpose at the Alley Kat in Wappingers Falls and enjoy an evening of R&amp\;B\, Swing\, Jump Blues\, Smooth Soul and New Orleans Funk! We have an expansive gourmet wood fired pizza menu\, 14 varieties of beer on tap and top shelf liquor! Great food\, great music\, great times!</span><br />\n<br />\nCheck out the event details on our Facebook page:</div>\n\n<div><a href="https://www.facebook.com/events/312514879298120/">An Evening with Soul Purpose</a></div>\n</div>\n\n<h1>&nbsp\;</h1>\n
LOCATION:The Alley Kat 1677 US 9 Wappingers Falls\, New York\, NY 12590
UID:e.2770.10479670
SEQUENCE:3
DTSTAMP:20260425T131638Z
URL:https://business.dcrcoc.org/events/details/an-evening-with-soul-purpose-at-the-alley-kat-10479670
END:VEVENT

END:VCALENDAR
