BEGIN:VCALENDAR
VERSION:2.0
PRODID:-//ChamberMaster//Event Calendar 2.0//EN
METHOD:PUBLISH
X-PUBLISHED-TTL:P3D
REFRESH-INTERVAL:P3D
CALSCALE:GREGORIAN
BEGIN:VEVENT
DTSTART:20190509T220000Z
DTEND:20190510T010000Z
X-MICROSOFT-CDO-ALLDAYEVENT:FALSE
SUMMARY:An Evening with Your Local Red Cross
DESCRIPTION:This spring the American Red Cross of the Mid-Hudson Valley will hold its signature event   An Evening with Your Local Red Cross 2019   on Thursday\, May 9 at 6:00 p.m. at The Grandview in Poughkeepsie. This event celebrates the good work of the Red Cross in our community and raises critical funds to support the Red Cross' lifesaving mission. More information is available online at www.redcross.org/eveningwithmhv.
X-ALT-DESC;FMTTYPE=text/html:This spring the American Red Cross of the Mid-Hudson Valley will hold its signature event &ndash\; An Evening with Your Local Red Cross 2019 &ndash\; on Thursday\, May 9 at 6:00 p.m. at The Grandview in Poughkeepsie. This event celebrates the good work of the Red Cross in our community and raises critical funds to support the Red Cross&rsquo\; lifesaving mission. More information is available online at www.redcross.org/eveningwithmhv.
LOCATION:The Grandview- 176 Rinaldi Blvd\, Poughkeepsie\, NY 1260
UID:e.2770.10480599
SEQUENCE:3
DTSTAMP:20260423T045532Z
URL:https://business.dcrcoc.org/events/details/an-evening-with-your-local-red-cross-05-09-2019-10480599
END:VEVENT

END:VCALENDAR
