BEGIN:VCALENDAR
VERSION:2.0
PRODID:-//ChamberMaster//Event Calendar 2.0//EN
METHOD:PUBLISH
X-PUBLISHED-TTL:P3D
REFRESH-INTERVAL:P3D
CALSCALE:GREGORIAN
BEGIN:VEVENT
DTSTART:20190509T220000Z
DTEND:20190510T020000Z
X-MICROSOFT-CDO-ALLDAYEVENT:FALSE
SUMMARY:An Evening With Your Local Red Cross
DESCRIPTION:Whether responding to disasters\, preparing people for emergencies\, supporting local veterans or collecting lifesaving blood\, your local Red Cross is hard at work 365 days a year. With your support\, we bring help and hope to our neighbors when they need it most. Enjoy heavy appetizers\, open bar\, and live and silent auctions\, and more while helping to support our life-saving mission. All proceeds will benefit the American Red Cross of the Mid-Hudson Valley\, serving Columbia\, Dutchess\, Greene\, and Ulster counties.
X-ALT-DESC;FMTTYPE=text/html:Whether responding to disasters\, preparing people for emergencies\, supporting local veterans or collecting lifesaving blood\, your local Red Cross is hard at work 365 days a year. With your support\, we bring help and hope to our neighbors when they need it most. Enjoy heavy appetizers\, open bar\, and live and silent auctions\, and more while helping to support our life-saving mission. All proceeds will benefit the American Red Cross of the Mid-Hudson Valley\, serving Columbia\, Dutchess\, Greene\, and Ulster counties.
LOCATION:The Grandview 176 Rinaldi Boulevard Poughkeepsie\, NY 12601
UID:e.2770.10480214
SEQUENCE:3
DTSTAMP:20260423T045216Z
URL:https://business.dcrcoc.org/events/details/an-evening-with-your-local-red-cross-10480214
END:VEVENT

END:VCALENDAR
