BEGIN:VCALENDAR
VERSION:2.0
PRODID:-//ChamberMaster//Event Calendar 2.0//EN
METHOD:PUBLISH
X-PUBLISHED-TTL:P3D
REFRESH-INTERVAL:P3D
CALSCALE:GREGORIAN
BEGIN:VEVENT
DTSTART:20200520T170000Z
DTEND:20200520T180000Z
X-MICROSOFT-CDO-ALLDAYEVENT:FALSE
SUMMARY:An Investor's Tour of Mutual Funds Webinar hosted by John Leigh\, Financial Advisor with Edward Jones
DESCRIPTION:John Leigh is hosting a free webinar called An Investor's Tour of Mutual Funds.\n\n\n\n     Welcome to the step-by-step guide for An Investor's Tour of Mutual Funds. This 35 minute seminar is designed to provide a detailed look at the features\, benefits and risks associated with this type of investment\, as well a map to mutual fund selection.
X-ALT-DESC;FMTTYPE=text/html:John Leigh is hosting a free webinar called An Investor&#39\;s Tour of Mutual Funds.<br />\n<br />\n&nbsp\;&nbsp\;&nbsp\;&nbsp\; Welcome to the step-by-step guide for An Investor&#39\;s Tour of Mutual Funds. This 35 minute seminar is designed to provide a detailed look at the features\, benefits and risks associated with this type of investment\, as well a map to mutual fund selection.<br />\n<br />\n&nbsp\;
LOCATION:Online Webinar
UID:e.2770.10483271
SEQUENCE:3
DTSTAMP:20260422T064103Z
URL:https://business.dcrcoc.org/events/details/an-investor-s-tour-of-mutual-funds-webinar-hosted-by-john-leigh-financial-advisor-with-edward-jones-10483271
END:VEVENT

END:VCALENDAR
