BEGIN:VCALENDAR
VERSION:2.0
PRODID:-//ChamberMaster//Event Calendar 2.0//EN
METHOD:PUBLISH
X-PUBLISHED-TTL:P3D
REFRESH-INTERVAL:P3D
CALSCALE:GREGORIAN
BEGIN:VEVENT
DTSTART:20181103T223000Z
DTEND:20181104T023000Z
X-MICROSOFT-CDO-ALLDAYEVENT:FALSE
SUMMARY:Anderson Center for Autism Annual Gala
DESCRIPTION:Anderson Center for Autism invites you to join us for our 17th Annual Gala "In a Different Key".  This year we will be honoring John Donvan and Caren Zucker\, award winning journalists and authors of "In a Different Key: The Story of Autism" who will be receiving the V.V. Anderson Community Service Award.  \n\n \n\nJohn Donvan and Caren Zucker will be presenting information about "In a Different Key: The Story of Autism" and there will be a book signing at the conclusion of the evening. \n\n \n\nJoin us for cocktails\, dinner\, and celebration.  Black and white cocktail attired encouraged.\n\n \n\nThe Grandview\n\n176 Rinaldi Boulevard\n\nPoughkeepsie\, NY 12601\n\n \nTo purchase tickets or sponsorship opportunities please visit www.AndersonCenterforAutism.org/Gala
X-ALT-DESC;FMTTYPE=text/html:<p style="margin: 0in 0in 0pt\;"><i><font color="#000000" face="Calibri" size="3">Anderson Center for Autism invites you to join us for our 17th Annual Gala &quot\;In a Different Key&quot\;.&nbsp\; This year we will be honoring John Donvan and Caren Zucker\, award winning journalists and authors of &quot\;In a Different Key: The Story of Autism&quot\; who will be receiving the V.V. Anderson Community Service Award.&nbsp\; </font></i></p>\n\n<p style="margin: 0in 0in 0pt\;"><i><font color="#000000" face="Calibri" size="3">&nbsp\;</font></i></p>\n\n<p style="margin: 0in 0in 0pt\;"><i><font color="#000000" face="Calibri" size="3">John Donvan and Caren Zucker will be presenting information about &quot\;In a Different Key: The Story of Autism&quot\; and there will be a book signing at the conclusion of the evening. </font></i></p>\n\n<p style="margin: 0in 0in 0pt\;"><i><font color="#000000" face="Calibri" size="3">&nbsp\;</font></i></p>\n\n<p style="margin: 0in 0in 0pt\;"><i><font color="#000000" face="Calibri" size="3">Join us for cocktails\, dinner\, and celebration.&nbsp\; Black and white cocktail attired encouraged.</font></i></p>\n\n<p style="margin: 0in 0in 0pt\;"><i><font color="#000000" face="Calibri" size="3">&nbsp\;</font></i></p>\n\n<p style="margin: 0in 0in 0pt\;"><i><font color="#000000" face="Calibri" size="3">The Grandview</font></i></p>\n\n<p style="margin: 0in 0in 0pt\;"><i><font color="#000000" face="Calibri" size="3">176 Rinaldi Boulevard</font></i></p>\n\n<p style="margin: 0in 0in 0pt\;"><i><font color="#000000" face="Calibri" size="3">Poughkeepsie\, NY 12601</font></i></p>\n\n<p style="margin: 0in 0in 0pt\;"><i><font color="#000000" face="Calibri" size="3">&nbsp\;</font></i></p>\n<i><span style="font-family: &quot\;Calibri&quot\;\,sans-serif\; font-size: 11pt\; mso-fareast-font-family: Calibri\; mso-fareast-theme-font: minor-latin\; mso-bidi-font-family: &quot\;Times New Roman&quot\;\; mso-ansi-language: EN-US\; mso-fareast-language: EN-US\; mso-bidi-language: AR-SA\;"><font color="#000000">To purchase tickets or sponsorship opportunities please visit </font><a href="https://na01.safelinks.protection.outlook.com/?url=http%3A%2F%2Fwww.AndersonCenterforAutism.org%2FGala&amp\;data=02%7C01%7Cfrontdesk%40dcrcoc.org%7C54eec59cf3484246a89e08d61a7054a3%7C2f12d5574b0742e1bc30171797d71f6b%7C1%7C0%7C636725467745583233&amp\;sdata=yWpkbDwZxU8pm0DyrpI7RJ2Ip%2BhYhyeQjk802vCVzEE%3D&amp\;reserved=0" originalsrc="http://www.AndersonCenterforAutism.org/Gala" shash="LX9hLzwDFWHnScaBWfwcIm69FfaSzYOHJpp/R01cNmLbwJ3Wj+fJv+w3QBGOGA5+Vp5PFNjQvPb7HbQ6yiOmbr67/x/Pv6Da6fZcUwMXKbY6YCH4N9RhSuJnp+6AbSdZE18GNcqSv2qhXVJksPwl1/ubqAbTqkRFwUlITkx7BC8="><font color="#0563c1">www.AndersonCenterforAutism.org/Gala</font></a></span></i>
LOCATION:The Grandview\, 176 Rinaldi Blvd\, Poughkeepsie\, NY 12601
UID:e.2770.10476734
SEQUENCE:3
DTSTAMP:20260425T102112Z
URL:https://business.dcrcoc.org/events/details/anderson-center-for-autism-annual-gala-11-03-2018-10476734
END:VEVENT

END:VCALENDAR
