BEGIN:VCALENDAR
VERSION:2.0
PRODID:-//ChamberMaster//Event Calendar 2.0//EN
METHOD:PUBLISH
X-PUBLISHED-TTL:P3D
REFRESH-INTERVAL:P3D
CALSCALE:GREGORIAN
BEGIN:VEVENT
DTSTART:20171007T223000Z
DTEND:20171008T020000Z
X-MICROSOFT-CDO-ALLDAYEVENT:FALSE
SUMMARY:Anderson Center for Autism's Annual Fundraiser
DESCRIPTION:Save the date! Time of event is TBD.
X-ALT-DESC;FMTTYPE=text/html:Save the date! Time of event is TBD.
LOCATION:The Grandview 176 Rinaldi Blvd\, Poughkeepsie\, NY 12601
UID:e.2770.10474395
SEQUENCE:3
DTSTAMP:20260426T033526Z
URL:https://business.dcrcoc.org/events/details/anderson-center-for-autism-s-annual-fundraiser-10474395
END:VEVENT

END:VCALENDAR
