BEGIN:VCALENDAR
VERSION:2.0
PRODID:-//ChamberMaster//Event Calendar 2.0//EN
METHOD:PUBLISH
X-PUBLISHED-TTL:P3D
REFRESH-INTERVAL:P3D
CALSCALE:GREGORIAN
BEGIN:VEVENT
DTSTART:20180929T210000Z
DTEND:20180930T010000Z
X-MICROSOFT-CDO-ALLDAYEVENT:FALSE
SUMMARY:Anderson Center for Autism's In A Different Light
DESCRIPTION:Please join us for Anderson Center for Autism's parent Susan Angeles' art reception at ARTBAR which will also feature work from artists involved in our Expressive Outcomes art program. Proceeds from the event will help Anderson optimize the quality of life for individuals with autism. Light refreshments will be served from 5:00PM to 7:00PM.
X-ALT-DESC;FMTTYPE=text/html:Please join us for Anderson Center for Autism&#39\;s parent Susan Angeles&#39\; art reception at ARTBAR which will also feature work from artists involved in our Expressive Outcomes art program. Proceeds from the event will help Anderson optimize the quality of life for individuals with autism. Light refreshments will be served from 5:00PM to 7:00PM.
LOCATION:ARTBAR Gallery 674 Broadway Kingston\, NY 12401
UID:e.2770.10479730
SEQUENCE:3
DTSTAMP:20260425T131444Z
URL:https://business.dcrcoc.org/events/details/anderson-center-for-autism-s-in-a-different-light-10479730
END:VEVENT

END:VCALENDAR
