BEGIN:VCALENDAR
VERSION:2.0
PRODID:-//ChamberMaster//Event Calendar 2.0//EN
METHOD:PUBLISH
X-PUBLISHED-TTL:P3D
REFRESH-INTERVAL:P3D
CALSCALE:GREGORIAN
BEGIN:VEVENT
DTSTART;VALUE=DATE:20210617
DTEND;VALUE=DATE:20210618
TRANSP:TRANSPARENT
X-MICROSOFT-CDO-ALLDAYEVENT:TRUE
SUMMARY:Anderson Golf Classic
DESCRIPTION:Anderson Foundation for Autism will be hosting our annual Anderson Golf Classic on Thursday\, June 17th at The Links at Union Vale located in Lagrangeville\, NY. Funds raised by this event will allow Anderson Center for Autism to continue to fulfill our mission: To optimize the quality of life for people with autism. Golfers will enjoy a day of golf and select their own tee time! Each golfer will receive a golfer gift\, swag bag\, and 24 raffle tickets. Breakfast/Lunch or Lunch/Dinner will be included depending on your tee time. Also\, unlimited beverage cart on the course all day and two cocktail drinks from the clubhouse will be included. There will be raffles and prizes! Scramble format rules and prizes awarded to First\, Second\, Closest to the Pin (Man/Woman)\, and Longest Drive (Man/Woman)! Hole in One Prizes!
X-ALT-DESC;FMTTYPE=text/html:Anderson Foundation for Autism will be hosting our annual Anderson Golf Classic on Thursday\, June 17th at The Links at Union Vale located in Lagrangeville\, NY. Funds raised by this event will allow Anderson Center for Autism to continue to fulfill our mission: To optimize the quality of life for people with autism. Golfers will enjoy a day of golf and select their own tee time! Each golfer will receive a golfer gift\, swag bag\, and 24 raffle tickets. Breakfast/Lunch or Lunch/Dinner will be included depending on your tee time. Also\, unlimited beverage cart on the course all day and two cocktail drinks from the clubhouse will be included. There will be raffles and prizes! Scramble format rules and prizes awarded to First\, Second\, Closest to the Pin (Man/Woman)\, and Longest Drive (Man/Woman)! Hole in One Prizes!
LOCATION:The Links at Union Vale 153 N. Parliman Road\, Lagrangeville\, NY 12540
UID:e.2770.10485155
SEQUENCE:3
DTSTAMP:20260421T112000Z
URL:https://business.dcrcoc.org/events/details/anderson-golf-classic-06-17-2021-10485155
END:VEVENT

END:VCALENDAR
