BEGIN:VCALENDAR
VERSION:2.0
PRODID:-//ChamberMaster//Event Calendar 2.0//EN
METHOD:PUBLISH
X-PUBLISHED-TTL:P3D
REFRESH-INTERVAL:P3D
CALSCALE:GREGORIAN
BEGIN:VEVENT
DTSTART;VALUE=DATE:20180621
DTEND;VALUE=DATE:20180622
TRANSP:TRANSPARENT
X-MICROSOFT-CDO-ALLDAYEVENT:TRUE
SUMMARY:Anderson Golf Classic
DESCRIPTION:Join us for a great day of golf and fun at The Links at Union Vale! Join us for the 2018 Anderson Golf Classic on Thursday\, June 21st for 18 holes of golf\, games\, and prizes. Meet our friendly and knowledgeable staff and spend a day getting better acquainted with Anderson\, the work we do\, and our incredible staff! Please join us for the 2018 Anderson Golf Classic by sponsoring our event. Please visit AndersonCenterforAutism.org/AndersonClassic for complete details.
X-ALT-DESC;FMTTYPE=text/html:Join us for a great day of golf and fun at The Links at Union Vale! Join us for the 2018 Anderson Golf Classic on Thursday\, June 21st for 18 holes of golf\, games\, and prizes. Meet our friendly and knowledgeable staff and spend a day getting better acquainted with Anderson\, the work we do\, and our incredible staff! Please join us for the 2018 Anderson Golf Classic by sponsoring our event. Please visit AndersonCenterforAutism.org/AndersonClassic for complete details.
LOCATION:The Links at Union Vale
UID:e.2770.10477763
SEQUENCE:3
DTSTAMP:20260425T181831Z
URL:https://business.dcrcoc.org/events/details/anderson-golf-classic-06-21-2018-10477763
END:VEVENT

END:VCALENDAR
