BEGIN:VCALENDAR
VERSION:2.0
PRODID:-//ChamberMaster//Event Calendar 2.0//EN
METHOD:PUBLISH
X-PUBLISHED-TTL:P3D
REFRESH-INTERVAL:P3D
CALSCALE:GREGORIAN
BEGIN:VEVENT
DTSTART:20200813T120000Z
DTEND:20200813T210000Z
X-MICROSOFT-CDO-ALLDAYEVENT:FALSE
SUMMARY:Anderson Golf Classic
DESCRIPTION:
X-ALT-DESC;FMTTYPE=text/html:
LOCATION:The Links at Union Vale 153 N Parliman Road Lagrangeville NY
UID:e.2770.10483305
SEQUENCE:3
DTSTAMP:20260422T015537Z
URL:https://business.dcrcoc.org/events/details/anderson-golf-classic-08-13-2020-10483305
END:VEVENT

END:VCALENDAR
