BEGIN:VCALENDAR
VERSION:2.0
PRODID:-//ChamberMaster//Event Calendar 2.0//EN
METHOD:PUBLISH
X-PUBLISHED-TTL:P3D
REFRESH-INTERVAL:P3D
CALSCALE:GREGORIAN
BEGIN:VEVENT
DTSTART:20210211T140000Z
DTEND:20210212T220000Z
X-MICROSOFT-CDO-ALLDAYEVENT:FALSE
SUMMARY:Mental Health America Anemone Flower Sale
DESCRIPTION:Vibrant\, locally-grown Anemone flowers being sold for pickup during Administrative Professionals' Week...a wonderful opportunity for businesses to purchase appreciation bouquets for staff...for individuals... a wonderful opportunity to purchase uplifting bouquets for coworkers\, family members\, friends\, or yourself. Delivery to businesses on April 21st for those ordering 12 or more bouquets.
X-ALT-DESC;FMTTYPE=text/html:Vibrant\, locally-grown Anemone flowers being sold for pickup during Administrative Professionals&#39\; Week...a wonderful opportunity for businesses to purchase appreciation bouquets for staff...for individuals... a wonderful opportunity to purchase uplifting bouquets for coworkers\, family members\, friends\, or yourself. Delivery to businesses on April 21st for those ordering 12 or more bouquets.
LOCATION:Mental Health America of Dutchess County 253 Mansion Street Poughkeepsie NY
UID:e.2770.10484982
SEQUENCE:3
DTSTAMP:20260421T161427Z
URL:https://business.dcrcoc.org/events/details/anemone-sale-02-11-2021-10484982
END:VEVENT

END:VCALENDAR
