BEGIN:VCALENDAR
VERSION:2.0
PRODID:-//ChamberMaster//Event Calendar 2.0//EN
METHOD:PUBLISH
X-PUBLISHED-TTL:P3D
REFRESH-INTERVAL:P3D
CALSCALE:GREGORIAN
BEGIN:VEVENT
DTSTART:20180922T223000Z
DTEND:20180923T023000Z
X-MICROSOFT-CDO-ALLDAYEVENT:FALSE
SUMMARY:Angels of Light 2nd Annual Event: For the Children\, Making Wishes Come True
DESCRIPTION:Join us for this special event at Orvis Sandanona in Millbrook\, NY.\n\n\n\nFeaturing the finest local cuisine and beverage from Hudson Valley establishments\, live and silent auctions with auctioneer Sheriff Butch Anderson\, and live entertainment. This year\, we will be honoring Marlene Weber-Garnot and Michael Poulin for their commitment to Angels of Light and our mission.\n\n\n\nFor information or to purchase tickets\, visit http://www.angelsoflighthudsonvalley.org/events
X-ALT-DESC;FMTTYPE=text/html:Join us for this special event at Orvis Sandanona in Millbrook\, NY.<br />\n<br />\nFeaturing the finest local cuisine and beverage from Hudson Valley establishments\, live and silent auctions with auctioneer Sheriff Butch Anderson\, and live entertainment. This year\, we will be honoring Marlene Weber-Garnot and Michael Poulin for their commitment to Angels of Light and our mission.<br />\n<br />\nFor information or to purchase tickets\, visit&nbsp\;<a href="http://www.angelsoflighthudsonvalley.org/events">http://www.angelsoflighthudsonvalley.org/events</a>&nbsp\;
LOCATION:Orvis Sandanona\, Millbrook\, NY
UID:e.2770.10479277
SEQUENCE:3
DTSTAMP:20260425T131746Z
URL:https://business.dcrcoc.org/events/details/angels-of-light-2nd-annual-event-for-the-children-making-wishes-come-true-10479277
END:VEVENT

END:VCALENDAR
