BEGIN:VCALENDAR
VERSION:2.0
PRODID:-//ChamberMaster//Event Calendar 2.0//EN
METHOD:PUBLISH
X-PUBLISHED-TTL:P3D
REFRESH-INTERVAL:P3D
CALSCALE:GREGORIAN
BEGIN:VEVENT
DTSTART:20190914T223000Z
DTEND:20190915T023000Z
X-MICROSOFT-CDO-ALLDAYEVENT:FALSE
SUMMARY:Angels of Light 3rd Annual Event: Making Wishes Come True
DESCRIPTION:Angels of Light will hold its 3rd Annual Event: Making Wishes Come True on Saturday\, September 14\, 2019 at Orvis Sandanona in Millbrook\, NY. The event will feature the finest local cuisine and beverage\; a live and silent auction\; and live entertainment.\n\n \n\nThe generous support of the community helps Angels of Light carry out their mission of providing holiday giving for children and families with life threatening illnesses.\n\n \n\nProceeds from the event will help take the burden and stress off families during the holiday season so they may spend more quality time with their loved ones. Tickets and sponsorships may be purchased by visiting www.angelsoflighthudsonvalley.org/events.
X-ALT-DESC;FMTTYPE=text/html:Angels of Light will hold its 3rd Annual Event: Making Wishes Come True on Saturday\, September 14\, 2019 at Orvis Sandanona in Millbrook\, NY. The event will feature the finest local cuisine and beverage\; a live and silent auction\; and live entertainment.<br />\n&nbsp\;<br />\nThe generous support of the community helps Angels of Light carry out their mission of providing holiday giving for children and families with life threatening illnesses.<br />\n&nbsp\;<br />\nProceeds from the event will help take the burden and stress off families during the holiday season so they may spend more quality time with their loved ones. Tickets and sponsorships may be purchased by visiting www.angelsoflighthudsonvalley.org/events.&nbsp\;
LOCATION:Orvis Sandanona\, 3047 Sharon Turnpike\, Millbrook\, NY
UID:e.2770.10480825
SEQUENCE:3
DTSTAMP:20260422T221026Z
URL:https://business.dcrcoc.org/events/details/angels-of-light-3rd-annual-event-making-wishes-come-true-10480825
END:VEVENT

END:VCALENDAR
