BEGIN:VCALENDAR
VERSION:2.0
PRODID:-//ChamberMaster//Event Calendar 2.0//EN
METHOD:PUBLISH
X-PUBLISHED-TTL:P3D
REFRESH-INTERVAL:P3D
CALSCALE:GREGORIAN
BEGIN:VEVENT
DTSTART:20210320T150000Z
DTEND:20210321T220000Z
X-MICROSOFT-CDO-ALLDAYEVENT:FALSE
SUMMARY:Angry Orchard Sugar Shack Weekend
DESCRIPTION:Come join the celebration of the annual release of the sought-after Wassail Wooden Sleeper and Maple Wooden Sleeper at Angry Orchard's Sugar Shack Weekend on March 20th & 21st! This cider filled weekend will include specialty cider tastings\, Wassail tours\, Smokin' Grates food truck\, cider donuts and more!\n\n \n\nTo attend the Sugar Shack Weekend\, you must have a reservation. Each reservation is $35 per person and includes a Wassail tour around the bonfire and through the orchard\, specialty cider tasting at the bonfire\, 90-minute outdoor table reservation to follow the tour\, and a choice of an artisanal cheeseboard or hummus plate. Each table can have 4 guests max. Make sure to arrive 15 minutes before your reservation so your tour can leave on time!\n\n \n\nWant to reserve a bottle of Wassail Wooden Sleeper or Maple Wooden Sleeper before the event? Add a bottle onto your reservation! All guests are asked to wear their mask during the tour and when not seated and adhere to social distancing guidelines.
X-ALT-DESC;FMTTYPE=text/html:<span style="color:#050505"><span style="font-family:segoe ui historic\,sans-serif"><span style="font-size:11.5pt">Come join the celebration of the annual release of the sought-after Wassail Wooden Sleeper and Maple Wooden Sleeper at Angry Orchard&#39\;s Sugar Shack Weekend on March 20th &amp\; 21st! This cider filled weekend will include specialty cider tastings\, Wassail tours\, Smokin&rsquo\; Grates food truck\, cider donuts and more!</span></span></span><br />\n&nbsp\;<br />\n<span style="color:#050505"><span style="font-family:segoe ui historic\,sans-serif"><span style="font-size:11.5pt">To attend the Sugar Shack Weekend\, you must have a reservation. Each reservation is $35 per person and includes a Wassail tour around the bonfire and through the orchard\, specialty cider tasting at the bonfire\, 90-minute outdoor table reservation to follow the tour\, and a choice of an artisanal cheeseboard or hummus plate. Each table can have 4 guests max. Make sure to arrive 15 minutes before your reservation so your tour can leave on time!</span></span></span><br />\n&nbsp\;<br />\n<span style="color:#050505"><span style="font-family:segoe ui historic\,sans-serif"><span style="font-size:11.5pt">Want to reserve a bottle of Wassail Wooden Sleeper or Maple Wooden Sleeper before the event? Add a bottle onto your reservation! All guests are asked to wear their mask during the tour and when not seated and adhere to social distancing guidelines.</span></span></span><br />\n&nbsp\;
LOCATION:2241 Albany Post Road\, Walden\, NY 12586
UID:e.2770.10485026
SEQUENCE:3
DTSTAMP:20260421T142420Z
URL:https://business.dcrcoc.org/events/details/angry-orchard-sugar-shack-weekend-10485026
END:VEVENT

END:VCALENDAR
