BEGIN:VCALENDAR
VERSION:2.0
PRODID:-//ChamberMaster//Event Calendar 2.0//EN
METHOD:PUBLISH
X-PUBLISHED-TTL:P3D
REFRESH-INTERVAL:P3D
CALSCALE:GREGORIAN
BEGIN:VEVENT
DTSTART:20181013T200000Z
DTEND:20181013T220000Z
X-MICROSOFT-CDO-ALLDAYEVENT:FALSE
SUMMARY:Animal Farm Foundation Cocktail Party
DESCRIPTION:Join Animal Farm Foundation for an evening Cocktails\, Community\, and Celebration! \n\n\n\nEnjoy light fare\, cocktails\, and live music while learning more about Animal Farm Foundation\, a great local organization with national impact that you will be proud to know.\n\n\n\nLearn more ahead of the event at www.animalfarmfoundation.org \n\n\n\nThis is a free event but RSVP is required. Please email info@animalfarmfoundation.org to let us know you will be joining us.
X-ALT-DESC;FMTTYPE=text/html:Join Animal Farm Foundation for an evening <strong><span style="color:#0000CD">Cocktails\, Community\, and Celebration!&nbsp\;</span></strong><br />\n<br />\nEnjoy&nbsp\;<strong>light fare\, cocktails\, and live music</strong> while learning more about Animal Farm Foundation\, a great local organization with national impact that you will be proud to know.<br />\n<br />\nLearn more ahead of the event at www.animalfarmfoundation.org&nbsp\;<br />\n<br />\nThis is a free event but RSVP is required. Please email info@animalfarmfoundation.org to let us know you will be joining&nbsp\;us.&nbsp\;<br />\n<br />\n<br />\n<br />\n<br />\n<br />\n&nbsp\;
LOCATION:433 Pugsley Hill Rd Amenia\, NY 12501
UID:e.2770.10479723
SEQUENCE:3
DTSTAMP:20260425T115045Z
URL:https://business.dcrcoc.org/events/details/animal-farm-foundation-cocktail-party-10479723
END:VEVENT

END:VCALENDAR
