BEGIN:VCALENDAR
VERSION:2.0
PRODID:-//ChamberMaster//Event Calendar 2.0//EN
METHOD:PUBLISH
X-PUBLISHED-TTL:P3D
REFRESH-INTERVAL:P3D
CALSCALE:GREGORIAN
BEGIN:VEVENT
DTSTART:20171117T140000Z
DTEND:20171117T190000Z
X-MICROSOFT-CDO-ALLDAYEVENT:FALSE
SUMMARY:Annual Caregivers Conference
DESCRIPTION:FREE EVENT\n\nBreakfast and Lunch will be offered\n\n\n\nNetworking\n\nVendors\n\nPresentations to help caregivers\n\nResources for those dealing with ailing diseases and disabilities
X-ALT-DESC;FMTTYPE=text/html:<p><span style="color:rgb(51\, 51\, 51)\; font-family:arial\,sans-serif\; font-size:10pt">FREE EVENT<br />\nBreakfast and Lunch will be offered<br />\n<br />\nNetworking<br />\nVendors<br />\nPresentations to help caregivers<br />\nResources for those dealing with ailing diseases and disabilities</span></p>\n
LOCATION:The Grandview 176 Rinaldi Blvd Poughkeepsie NY 12601
UID:e.2770.10476456
SEQUENCE:3
DTSTAMP:20260426T020534Z
URL:https://business.dcrcoc.org/events/details/annual-caregivers-conference-10476456
END:VEVENT

END:VCALENDAR
