BEGIN:VCALENDAR
VERSION:2.0
PRODID:-//ChamberMaster//Event Calendar 2.0//EN
METHOD:PUBLISH
X-PUBLISHED-TTL:P3D
REFRESH-INTERVAL:P3D
CALSCALE:GREGORIAN
BEGIN:VEVENT
DTSTART:20200611T120000Z
DTEND:20200611T200000Z
X-MICROSOFT-CDO-ALLDAYEVENT:FALSE
SUMMARY:Annual Golf Classic
DESCRIPTION:8:00AM Registration and Breakfast 9:00AM Shotgun Start\, Scramble Format\, Lunch Served on the Course 2:00PM Cocktail Hour\, Awards Dinner\, Prizes\, and Raffles
X-ALT-DESC;FMTTYPE=text/html:8:00AM Registration and Breakfast 9:00AM Shotgun Start\, Scramble Format\, Lunch Served on the Course 2:00PM Cocktail Hour\, Awards Dinner\, Prizes\, and Raffles
LOCATION:The Links at Union Vale 153 N Parliman Road Lagrangeville NY
UID:e.2770.10482699
SEQUENCE:3
DTSTAMP:20260422T044729Z
URL:https://business.dcrcoc.org/events/details/annual-golf-classic-10482699
END:VEVENT

END:VCALENDAR
