BEGIN:VCALENDAR
VERSION:2.0
PRODID:-//ChamberMaster//Event Calendar 2.0//EN
METHOD:PUBLISH
X-PUBLISHED-TTL:P3D
REFRESH-INTERVAL:P3D
CALSCALE:GREGORIAN
BEGIN:VEVENT
DTSTART:20191114T220000Z
DTEND:20191115T000000Z
X-MICROSOFT-CDO-ALLDAYEVENT:FALSE
SUMMARY:Annual Leadership Dutchess Retreat Dinner
DESCRIPTION:*** For Reservations\, Please Call (845) 454-1700 ext. 1000.\n\n\n\nGet to know the Leadership Dutchess Class of 2020!
X-ALT-DESC;FMTTYPE=text/html:<br />\n<span style="color:#FF0000\;"><span style="font-size:16px\;"><strong>*** For Reservations\, Please Call (845) 454-1700 ext. 1000.</strong></span></span><br />\n<br />\nGet to know the Leadership Dutchess Class of 2020!
LOCATION:Mt. Alvernia 158 Delavergne Avenue Wappingers Falls
UID:e.2770.10481452
SEQUENCE:3
DTSTAMP:20260422T170834Z
URL:https://business.dcrcoc.org/events/details/annual-leadership-dutchess-retreat-dinner-10481452
END:VEVENT

END:VCALENDAR
