BEGIN:VCALENDAR
VERSION:2.0
PRODID:-//ChamberMaster//Event Calendar 2.0//EN
METHOD:PUBLISH
X-PUBLISHED-TTL:P3D
REFRESH-INTERVAL:P3D
CALSCALE:GREGORIAN
BEGIN:VEVENT
DTSTART:20190928T210000Z
DTEND:20190929T210000Z
X-MICROSOFT-CDO-ALLDAYEVENT:FALSE
SUMMARY:Apple Daze Festival
DESCRIPTION:FREE ADMISSION! Join us this weekend for our Apple Daze Festival! We'll be offering lots of pick-your-own apples\, grapes\, pumpkins\, and tomatoes! Buy two FULL 1/2 bushel bags of apples and get a 1/2 gallon of cider FREE! Take a tractor-pulled wagon ride\, visit “Tiny Town” and the farm animals\, get lost in the corn maze\, and enjoy lunch at the barbeque. Visit our farm market\, offering a great variety of local farm products\, including delicious handmade pies and apple cider donuts\, voted the Best in the Hudson Valley! The Tavern at DuBois Farms is now open\, offering local wine\, hard cider\, and craft beer in a tranquil setting.
X-ALT-DESC;FMTTYPE=text/html:FREE ADMISSION! Join us this weekend for our Apple Daze Festival! We'll be offering lots of pick-your-own apples\, grapes\, pumpkins\, and tomatoes! Buy two FULL 1/2 bushel bags of apples and get a 1/2 gallon of cider FREE! Take a tractor-pulled wagon ride\, visit “Tiny Town” and the farm animals\, get lost in the corn maze\, and enjoy lunch at the barbeque. Visit our farm market\, offering a great variety of local farm products\, including delicious handmade pies and apple cider donuts\, voted the Best in the Hudson Valley! The Tavern at DuBois Farms is now open\, offering local wine\, hard cider\, and craft beer in a tranquil setting.
LOCATION:DuBois Farms 209 Perkinsville Rd Highland\, NY 12528
UID:e.2770.10481425
SEQUENCE:3
DTSTAMP:20260422T220905Z
URL:https://business.dcrcoc.org/events/details/apple-daze-festival-10481425
END:VEVENT

END:VCALENDAR
