BEGIN:VCALENDAR
VERSION:2.0
PRODID:-//ChamberMaster//Event Calendar 2.0//EN
METHOD:PUBLISH
X-PUBLISHED-TTL:P3D
REFRESH-INTERVAL:P3D
CALSCALE:GREGORIAN
BEGIN:VEVENT
DTSTART:20180418T113000Z
DTEND:20180418T130000Z
X-MICROSOFT-CDO-ALLDAYEVENT:FALSE
SUMMARY:April Contact Breakfast
DESCRIPTION:p.p1 {margin: 0.0px 0.0px 0.0px 0.0px\; font: 16.0px Helvetica\; color: #323333}\nspan.s1 {font: 16.0px Calibri\; color: #000000}\n\n*** Please note if you register after 4:00 p.m. on Tuesday\, April 17th you will NOT be on our registration list. Please report to the UNPAID table at the contact breakfast and have your registration confirmation and your receipt ready. Payment in advance is required in order to expedite the check-in process. Cancellations less than 24-hours from the event and no-shows will be charged the full ticket price.\n\nMonthly contact breakfast featuring the 2018 Headliner Awards and a keynote address from Founder and Research Director of the Empire Center for Public Policy\, E.J. McMahon.\n\n\n\nSponsored by: KeyBank\n\n\n\nHeadliner Awards sponsored by: Hudson Valley Fresh\n\n\n\nNonprofits: The Arc of Dutchess and Jewish Federation of Dutchess County\n\n\n\n\n\nAs you all know\, there are many people in need of our assistance. The Chamber's Ambassador committee has partnered with our Workforce Development Center to collect canned and dry goods at our Contact Breakfast. Your donations are greatly appreciated.\np.p1 {margin: 0.0px 0.0px 0.0px 0.0px\; font: 15.0px Calibri}
X-ALT-DESC;FMTTYPE=text/html:<p>\n<style type="text/css">p.p1 {margin: 0.0px 0.0px 0.0px 0.0px\; font: 16.0px Helvetica\; color: #323333}\nspan.s1 {font: 16.0px Calibri\; color: #000000}\n</style>\n<span style="font-size:18px\;"><span style="font-family:arial\;"><b>*** Please note if&nbsp\;you register after 4:00 p.m. on Tuesday\,</b><b>&nbsp\;April 17th&nbsp\;you will NOT be on our registration list. Please report to the UNPAID table at the contact breakfast and have your registration confirmation and your receipt ready. Payment in advance is required in order to expedite the check-in process. Cancellations less than 24-hours from the event and no-shows will be charged the full ticket price.</b></span></span></p>\n\n<p>Monthly contact breakfast featuring the 2018 Headliner Awards and a keynote address from F<span style="color: rgb(32\, 35\, 36)\;">ounder and Research Director of the Empire Center for Public Policy\, E.J. McMahon</span>.<br />\n<br />\nSponsored by: <a href="https://www.key.com/personal/index.jsp" target="_blank">KeyBank</a><br />\n<br />\nHeadliner Awards sponsored by:&nbsp\;<a href="https://www.hudsonvalleyfresh.com/" target="_blank">Hudson Valley Fresh</a><br />\n<br />\nNonprofits: <a href="http://www.arcdutchess.org" target="_blank">The Arc of Dutchess</a> and <a href="http://www.jewishdutchess.org" target="_blank">Jewish Federation of Dutchess County</a><br />\n<br />\n<br />\n<strong style="color: rgb(51\, 51\, 51)\; font-family: sans-serif\, Arial\, Verdana\, &quot\;Trebuchet MS&quot\;\; font-size: 13px\; background-color: rgb(255\, 255\, 255)\;"><span style="font-family: Arial\, Helvetica\, &quot\;MS Sans Serif&quot\;\, sans-serif\;">As you all know\, there are many people in need of our assistance. The Chamber&#39\;s Ambassador committee has partnered with our Workforce Development Center to collect canned and dry goods at our Contact Breakfast. Your donations are greatly appreciated.</span></strong></p>\n<style type="text/css">p.p1 {margin: 0.0px 0.0px 0.0px 0.0px\; font: 15.0px Calibri}\n</style>\n
LOCATION:The Poughkeepsie Grand Hotel & Conference Center 40 Civic Center Plaza Poughkeepsie\, NY 12601
UID:e.2770.10476423
SEQUENCE:3
DTSTAMP:20260425T194845Z
URL:https://business.dcrcoc.org/events/details/april-contact-breakfast-10476423
END:VEVENT

END:VCALENDAR
