BEGIN:VCALENDAR
VERSION:2.0
PRODID:-//ChamberMaster//Event Calendar 2.0//EN
METHOD:PUBLISH
X-PUBLISHED-TTL:P3D
REFRESH-INTERVAL:P3D
CALSCALE:GREGORIAN
BEGIN:VEVENT
DTSTART:20210421T120000Z
DTEND:20210421T130000Z
X-MICROSOFT-CDO-ALLDAYEVENT:FALSE
SUMMARY:April Contact Breakfast
DESCRIPTION:This event will be held on Zoom and In Person.\n\nFor Zoom Registration: Please Click Here\n\n\n\n***Please Note: If you try to register for the in person option\, after 4:30 PM on Tuesday\, April 20 you will NOT be on our registration list. \n\n\n\nRegistration is required as space is limited. \n\n\n\nMonthly Contact Breakfast featuring keynote presentation from Dutchess County Executive Marcus Molinaro as he discusses the 2021 State of the County from an economic perspective.\n\nThe Chamber's April Breakfast will be held with as many as 100 people safely attending the event live at The Poughkeepsie Grand Hotel and Conference Center\, and others able to view the event on Zoom and Facebook.\n\n\n\nRegistration to attend live is available to Chamber members only\, first come first served\, and a light plated breakfast will be served. Payment of $25 per person must be made in advance\, and walk-ins will not be able to be accommodated.\n\n\n\nFor questions\, please email Chelsea@dcrcoc.org or you may leave a message at 845-454-1700 ext. 1006.\n\n\n\nThank you to our Sponsors: Greystone Programs and KeyBank
X-ALT-DESC;FMTTYPE=text/html:<p><br />\n<span style="font-family:times new roman\;"><strong><span style="color:black\;"><span style="font-size:13.5pt\;">This event will be held on Zoom and In Person.</span></span></strong><br />\n<span style="background-image: initial\; background-position: initial\; background-size: initial\; background-repeat: initial\; background-attachment: initial\; background-origin: initial\; background-clip: initial\;"><span style="color: black\; font-weight: bold\; background-color: yellow\; font-size: 13.5pt\;">For Zoom Registration: Please Click&nbsp\;</span><span style="font-weight: bold\; background-color: yellow\; font-size: 13.5pt\;"><a href="http://dcrcoc-org.zoom.us/webinar/register/WN_Qp19tUX-Tnmrcl9uhEVBDQ" target="_blank"><span style="color: rgb(0\, 0\, 255)\;">Here</span></a></span></span></span><br />\n<br />\n<span style="color: rgb(255\, 0\, 0)\; font-family: tahoma\; font-size: 16px\; font-weight: 700\;">***Please Note: If&nbsp\;you try to register for the in person option\, after 4:30 PM on Tuesday\, April 20&nbsp\;you will NOT be on our registration list.&nbsp\;</span><br />\n<br />\n<strong style="font-family: &quot\;times new roman&quot\;\;"><span style="color: black\;"><span style="font-size: 13.5pt\;">Registration is required as space is limited.&nbsp\;</span></span></strong><br />\n<br />\n<span style="font-size:18px\;"><span style="color:#000000\;"><span style="font-family:times new roman\;"><span style="border: 1pt none windowtext\; padding: 0in\;">Monthly Contact Breakfast&nbsp\;featuring keynote presentation</span>&nbsp\;from Dutchess County Executive Marcus Molinaro as he discusses the 2021 State of the County from an economic perspective.</span></span></span></p>\n\n<p><span style="font-size:16px\;"><span style="font-family:times new roman\;"><em><span style="color: black\;">The Chamber&#39\;s April Breakfast will be held with as many as 100 people safely attending the event live at The Poughkeepsie Grand Hotel and Conference Center\, and others able to view the event on Zoom and Facebook.</span></em><br />\n<br />\n<em><span style="color: black\;"><span style="background-image:\ninitial\;background-position:initial\;background-size: initial\;background-repeat:\ninitial\;background-attachment:initial\;background-origin: initial\;background-clip: initial">Registration to attend live is available to&nbsp\;</span></span></em><strong><i><span style="color: black\;">Chamber members only</span></i></strong><em><span style="color: black\;">\, first come first served\, and a light plated breakfast will be served. Payment of $25 per person must be made in advance\, and walk-ins will not be able to be accommodated.</span></em><br />\n<br />\n<span style="color: black\;"><span style="background-image:\ninitial\;background-position:initial\;background-size: initial\;background-repeat:\ninitial\;background-attachment:initial\;background-origin: initial\;background-clip: initial">For questions\, please email&nbsp\;</span></span><a href="mailto:Chelsea@dcrcoc.org"><span style="color:#0000FF\;"><span style="background-image:\ninitial\;background-position:initial\;background-size: initial\;background-repeat:\ninitial\;background-attachment:initial\;background-origin: initial\;background-clip: initial">Chelsea@dcrcoc.org</span></span></a><span style="color: black\;"><span style="background-image:initial\;\nbackground-position:initial\;background-size: initial\;background-repeat:initial\;\nbackground-attachment:initial\;background-origin: initial\;background-clip: initial">&nbsp\;or you may leave a message at 845-454-1700 ext. 1006.</span></span></span></span><span style="font-size:10.0pt\;font-family:&quot\;Arial&quot\;\,sans-serif\;color:#333333"><o:p></o:p></span></p>\n\n<p><br />\n<span style="font-size:18px\;"><span style="color:#000000\;"><span style="font-family:times new roman\;">Thank you to our&nbsp\;Sponsors: </span></span><span style="font-family:times new roman\;"><strong><a href="https://greystoneprograms.org/" target="_blank"><span style="color:#0000FF\;">Greystone Programs</span></a></strong></span><span style="color:#000000\;"><span style="font-family:times new roman\;"><strong> and </strong></span></span><span style="font-family:times new roman\;"><strong><a href="https://www.key.com/personal/index.jsp" target="_blank"><span style="color:#0000FF\;">KeyBank</span></a></strong></span></span></p>\n
LOCATION:Zoom & The Poughkeepsie Grand Hotel 40 Civic Center Plaza Poughkeepsie
UID:e.2770.10484489
SEQUENCE:3
DTSTAMP:20260421T125452Z
URL:https://business.dcrcoc.org/events/details/april-contact-breakfast-10484489
END:VEVENT

END:VCALENDAR
