BEGIN:VCALENDAR
VERSION:2.0
PRODID:-//ChamberMaster//Event Calendar 2.0//EN
METHOD:PUBLISH
X-PUBLISHED-TTL:P3D
REFRESH-INTERVAL:P3D
CALSCALE:GREGORIAN
BEGIN:VEVENT
DTSTART:20200425T120000Z
DTEND:20200425T160000Z
X-MICROSOFT-CDO-ALLDAYEVENT:FALSE
SUMMARY:Arlington Education Foundation 4th Annual 5K Run/Walk & Kids Runs
DESCRIPTION:Join the Arlington Education Foundation for a fun-filled\, family-friendly 5K plus 1 Mile and 1 Lap Kids Runs event on the campus of the Arlington High School. Proceeds from the event allow the Foundation to fund STEAM initiatives in the Arlington Central School District. Tell your family & friends!
X-ALT-DESC;FMTTYPE=text/html:Join the Arlington Education Foundation for a fun-filled\, family-friendly 5K plus 1 Mile and 1 Lap Kids Runs event on the campus of the Arlington High School. Proceeds from the event allow the Foundation to fund STEAM initiatives in the Arlington Central School District. Tell your family &amp\; friends!
LOCATION:Arlington High School Lagrangeville\, NY
UID:e.2770.10482701
SEQUENCE:3
DTSTAMP:20260422T081254Z
URL:https://business.dcrcoc.org/events/details/arlington-education-foundation-4th-annual-5k-run-walk-kids-runs-10482701
END:VEVENT

END:VCALENDAR
