BEGIN:VCALENDAR
VERSION:2.0
PRODID:-//ChamberMaster//Event Calendar 2.0//EN
METHOD:PUBLISH
X-PUBLISHED-TTL:P3D
REFRESH-INTERVAL:P3D
CALSCALE:GREGORIAN
BEGIN:VEVENT
DTSTART:20191024T213000Z
DTEND:20191025T000000Z
X-MICROSOFT-CDO-ALLDAYEVENT:FALSE
SUMMARY:Art After Dark
DESCRIPTION:The Art Effect is creating a new narrative in Poughkeepsie and the Hudson Valley with young artists as the focal point. On October 24\, we invite you to Create a New Narrative with us\, as we bring together diverse groups of stakeholders to experience art forms in new and interesting ways. Art After Dark will feature immersive arts experiences centered around this theme\, including a green screen experience and visual arts experience conceived by The Art Effect staff and youth. Proceeds from this event will provide significant support for The Art Effect's art education and youth programming. At this year's Art After Dark\, The Art Effect will be honoring Karen & Nevill Smythe as well as Jason Bard Yarmosky. Event sponsorships are also available to present an immersive art experience at the event.
X-ALT-DESC;FMTTYPE=text/html:The Art Effect is creating a new narrative in Poughkeepsie and the Hudson Valley with young artists as the focal point. On October 24\, we invite you to Create a New Narrative with us\, as we bring together diverse groups of stakeholders to experience art forms in new and interesting ways. Art After Dark will feature immersive arts experiences centered around this theme\, including a green screen experience and visual arts experience conceived by The Art Effect staff and youth. Proceeds from this event will provide significant support for The Art Effect&rsquo\;s art education and youth programming. At this year&rsquo\;s Art After Dark\, The Art Effect will be honoring Karen &amp\; Nevill Smythe as well as Jason Bard Yarmosky. Event sponsorships are also available to present an immersive art experience at the event.
LOCATION:Locust Grove Estate 2683 South Rd\, Poughkeepsie\, NY 12601
UID:e.2770.10481036
SEQUENCE:3
DTSTAMP:20260422T182940Z
URL:https://business.dcrcoc.org/events/details/art-after-dark-10-24-2019-10481036
END:VEVENT

END:VCALENDAR
