BEGIN:VCALENDAR
VERSION:2.0
PRODID:-//ChamberMaster//Event Calendar 2.0//EN
METHOD:PUBLISH
X-PUBLISHED-TTL:P3D
REFRESH-INTERVAL:P3D
CALSCALE:GREGORIAN
BEGIN:VEVENT
DTSTART:20180925T213000Z
DTEND:20180926T003000Z
X-MICROSOFT-CDO-ALLDAYEVENT:FALSE
SUMMARY:The Art Effect: Art After Dark Gala
DESCRIPTION:A Gala Like No Other. Calling all Art Effectors to come out for Art After Dark! Enjoy site-specific immersive arts experiences\, culinary delights\, and cocktails with an artistic twist.
X-ALT-DESC;FMTTYPE=text/html:A Gala Like No Other. Calling all Art Effectors to come out for Art After Dark! Enjoy site-specific immersive arts experiences\, culinary delights\, and cocktails with an artistic twist.
LOCATION:Henry A. Wallacce Center at the FDR Presidential Library & Museum
UID:e.2770.10477603
SEQUENCE:3
DTSTAMP:20260425T142825Z
URL:https://business.dcrcoc.org/events/details/art-after-dark-10477603
END:VEVENT

END:VCALENDAR
