BEGIN:VCALENDAR
VERSION:2.0
PRODID:-//ChamberMaster//Event Calendar 2.0//EN
METHOD:PUBLISH
X-PUBLISHED-TTL:P3D
REFRESH-INTERVAL:P3D
CALSCALE:GREGORIAN
BEGIN:VEVENT
DTSTART:20180413T140000Z
DTEND:20180415T200000Z
X-MICROSOFT-CDO-ALLDAYEVENT:FALSE
SUMMARY:Art of the Needle 2018 - Needlework Show
DESCRIPTION:Come and admire over 250 pieces of needle art on display\, enjoy live demonstrations each day at 10am and 1pm\, plus shop our Boutique!
X-ALT-DESC;FMTTYPE=text/html:Come and admire over 250 pieces of needle art on display\, enjoy live demonstrations each day at 10am and 1pm\, plus shop our Boutique!
LOCATION:Locust Grove Estate Visitors Center 2683 South Road (Rt9) Poughkeepsie\, NY 12601
UID:e.2770.10476918
SEQUENCE:3
DTSTAMP:20260425T195111Z
URL:https://business.dcrcoc.org/events/details/art-of-the-needle-2018-needlework-show-10476918
END:VEVENT

END:VCALENDAR
