BEGIN:VCALENDAR
VERSION:2.0
PRODID:-//ChamberMaster//Event Calendar 2.0//EN
METHOD:PUBLISH
X-PUBLISHED-TTL:P3D
REFRESH-INTERVAL:P3D
CALSCALE:GREGORIAN
BEGIN:VEVENT
DTSTART:20230908T210000Z
DTEND:20230908T230000Z
X-MICROSOFT-CDO-ALLDAYEVENT:FALSE
SUMMARY:Art Opening Reception - Frank Ritter @ Cunneen-Hackett Arts Center
DESCRIPTION:The Cunneen-Hackett Arts Center will host a free public Art Opening Reception for photographer\, Frank Ritter\, on Friday\, September 8\, 2023 from 5pm to 7pm in the Reception and Hancock Galleries at 12 Vassar Street\, Poughkeepsie\, NY.  His exhibit\, which is based on his highly acclaimed book 9/11 Remembrance Renewal Hope: A Twenty Year Journey\, showcases a collection of visually stunning and sensitive photographs and will be on display until October 31\, 2023.  Visit cunneen-hackett.org for more information.
X-ALT-DESC;FMTTYPE=text/html:<span style="background-color:rgb(255\, 255\, 255)\; color:rgb(51\, 51\, 51)\; font-family:sans-serif\,arial\,verdana\,trebuchet ms\; font-size:13px">The Cunneen-Hackett Arts Center will host a free public Art Opening Reception for photographer\, Frank Ritter\, on Friday\, September 8\, 2023 from 5pm to 7pm in the Reception and Hancock Galleries at 12 Vassar Street\, Poughkeepsie\, NY.&nbsp\; His exhibit\, which is based on his highly acclaimed book&nbsp\;</span><em><span style="font-family:calibri\,sans-serif"><span style="font-size:11.0pt">9/11 Remembrance Renewal Hope: A Twenty Year Journey\,&nbsp\;</span></span></em><span style="font-family:calibri\,sans-serif"><span style="font-size:11.0pt">showcases a collection of visually stunning and sensitive photographs and will be on di</span></span><span style="color:rgb(51\, 51\, 51)\; font-family:calibri\,sans-serif\; font-size:13px"><span style="font-size:11pt">splay until October 31\, 2023.</span></span><span style="background-color:rgb(255\, 255\, 255)\; color:rgb(51\, 51\, 51)\; font-family:sans-serif\,arial\,verdana\,trebuchet ms\; font-size:13px">&nbsp\; Visit cunneen-hackett.org for more information.</span>
LOCATION:Cunneen-Hackett Arts Center Reception and Hancock Galleries 12 Vassar Street Poughkeepsie\, NY 12601
UID:e.2770.10495253
SEQUENCE:3
DTSTAMP:20260420T023338Z
URL:https://business.dcrcoc.org/events/details/art-opening-reception-frank-ritter-cunneen-hackett-arts-center-10495253
END:VEVENT

END:VCALENDAR
