BEGIN:VCALENDAR
VERSION:2.0
PRODID:-//ChamberMaster//Event Calendar 2.0//EN
METHOD:PUBLISH
X-PUBLISHED-TTL:P3D
REFRESH-INTERVAL:P3D
CALSCALE:GREGORIAN
BEGIN:VEVENT
DTSTART:20180301T210000Z
DTEND:20180302T000000Z
X-MICROSOFT-CDO-ALLDAYEVENT:FALSE
SUMMARY:Art & Soul Gala
DESCRIPTION:Art sale to benefit sustainable healthcare in rural Haiti. This year\, we are honoring Dr. Paul Farmer for his achievements in global public health. Original Haitian paintings\, handcrafts\, and sculptures will be sold. Food and drink will be provided by Twisted Soul.
X-ALT-DESC;FMTTYPE=text/html:Art sale to benefit sustainable healthcare in rural Haiti. This year\, we are honoring Dr. Paul Farmer for his achievements in global public health. Original Haitian paintings\, handcrafts\, and sculptures will be sold. Food and drink will be provided by Twisted Soul.
LOCATION:Vassar College Alumnae House\, Poughkeepsie\, NY
UID:e.2770.10476741
SEQUENCE:3
DTSTAMP:20260425T210352Z
URL:https://business.dcrcoc.org/events/details/art-soul-gala-10476741
END:VEVENT

END:VCALENDAR
