BEGIN:VCALENDAR
VERSION:2.0
PRODID:-//ChamberMaster//Event Calendar 2.0//EN
METHOD:PUBLISH
X-PUBLISHED-TTL:P3D
REFRESH-INTERVAL:P3D
CALSCALE:GREGORIAN
BEGIN:VEVENT
DTSTART:20200606T170000Z
DTEND:20200606T210000Z
X-MICROSOFT-CDO-ALLDAYEVENT:FALSE
SUMMARY:Arts For Justice
DESCRIPTION:Are you in need of a safe space to process current events by creating art? Let your voice be heard at The Art Effect's "Arts For Justice" Black Lives Matter drop in open studio. Bring your own masks and gloves for this social distanced art making event with 6 different activities. All ages welcome - Kid friendly
X-ALT-DESC;FMTTYPE=text/html:Are you in need of a safe space to process current events by creating art? Let your voice be heard at The Art Effect&#39\;s &quot\;Arts For Justice&quot\; Black Lives Matter drop in open studio. Bring your own masks and gloves for this social distanced art making event with 6 different activities. All ages welcome - Kid friendly
LOCATION:The Art Effect 45 Pershing Avenue Poughkeepsie\, NY\, 12601
UID:e.2770.10483300
SEQUENCE:3
DTSTAMP:20260422T044649Z
URL:https://business.dcrcoc.org/events/details/arts-for-justice-10483300
END:VEVENT

END:VCALENDAR
