BEGIN:VCALENDAR
VERSION:2.0
PRODID:-//ChamberMaster//Event Calendar 2.0//EN
METHOD:PUBLISH
X-PUBLISHED-TTL:P3D
REFRESH-INTERVAL:P3D
CALSCALE:GREGORIAN
BEGIN:VEVENT
DTSTART:20180214T133000Z
DTEND:20180214T183000Z
X-MICROSOFT-CDO-ALLDAYEVENT:FALSE
SUMMARY:Ash Wednesday Ashes to Go
DESCRIPTION:In a hurry?  Schedule too full to attend an Ash Wednesday service at your place of worship?\n\nRev. Heather Moody\, Pastor of First Congregational United Church of Christ\, will be offering Ashes (and Blessings!) to Go on the church's front lawn and in the church parking lot from 8:30-9:00am and from 12:30-1:30pm on Ash Wednesday\, February 14th.   Visit our church website to learn more: www.OpenToGod.org  \n\nWe are an Open and Affirming Congregation.
X-ALT-DESC;FMTTYPE=text/html:In a hurry?&nbsp\; Schedule too full to attend an Ash Wednesday service at your place of worship?<br />\nRev. Heather Moody\, Pastor of First Congregational United Church of Christ\, will be offering <strong>Ashes (and Blessings!) to Go</strong> on the church&#39\;s front lawn and in the church parking lot from 8:30-9:00am and from 12:30-1:30pm on Ash Wednesday\, February 14th.&nbsp\; &nbsp\;Visit our church website to learn more: www.OpenToGod.org&nbsp\;&nbsp\;<br />\nWe are an Open and Affirming Congregation.<br />\n&nbsp\;&nbsp\;
LOCATION:First Congregational United Church of Christ 269 Mill Street (44/55 Westbound arterial) Poughkeepsie\, NY 12601
UID:e.2770.10476794
SEQUENCE:3
DTSTAMP:20260425T222036Z
URL:https://business.dcrcoc.org/events/details/ash-wednesday-ashes-to-go-10476794
END:VEVENT

END:VCALENDAR
