BEGIN:VCALENDAR
VERSION:2.0
PRODID:-//ChamberMaster//Event Calendar 2.0//EN
METHOD:PUBLISH
X-PUBLISHED-TTL:P3D
REFRESH-INTERVAL:P3D
CALSCALE:GREGORIAN
BEGIN:VEVENT
DTSTART:20171202T150000Z
DTEND:20171230T210000Z
X-MICROSOFT-CDO-ALLDAYEVENT:FALSE
SUMMARY:Audio Visuals and Holiday-Themed Books on Sale Starts Dec 2
DESCRIPTION:Records\, CDs\, DVDs\, Audio Books and Games plus a selection of Holiday-themed books will go on sale December 2 at the Friends of the Poughkeepsie Public Library District's Book Store at 141 Boardman Rd.\, Poughkeepsie. The sale will continue through and including December 30. Records\, CDs and Games will be 40 cents per item\; DVDs and Audiobooks will be $1 each. Holiday-Themed books will be 50 cents each. All other of the more than 20\,000 books on the store's shelves\, in a wide variety of categories\, including biographies\, cookbooks\, religion and fine arts will be available at the regular prices of $2 or less. A selection of special books that are individually priced are also available. Friends' volunteers replenish the book shelves continually from the large inventory of presorted quality books that are donated by the community members and housed in the Friends' warehouse\, so the shelves are always full. The Friends of the Poughkeepsie Public Library District is an all-volunteer organization that supports the district's programs and services. The Book Store is open from 10 a.m. to 4 p.m. every Tuesday\, Thursday and Saturday. The Book Store is located at the Boardman Road Branch Library (entrance behind the Library on the south side)\, 141 Boardman Rd.\, Poughkeepsie. Look for the blue awning. For more information about the Book Store\, call 845-485-3445 x. 3423 or visit www.facebook.com/PoughkeepsieLibraryBookstore/timeline.
X-ALT-DESC;FMTTYPE=text/html:Records\, CDs\, DVDs\, Audio Books and Games plus a selection of Holiday-themed books will go on sale December 2 at the Friends of the Poughkeepsie Public Library District&rsquo\;s Book Store at 141 Boardman Rd.\, Poughkeepsie. The sale will continue through and including December 30. Records\, CDs and Games will be 40 cents per item\; DVDs and Audiobooks will be $1 each. Holiday-Themed books will be 50 cents each. All other of the more than 20\,000 books on the store&rsquo\;s shelves\, in a wide variety of categories\, including biographies\, cookbooks\, religion and fine arts will be available at the regular prices of $2 or less. A selection of special books that are individually priced are also available. Friends&rsquo\; volunteers replenish the book shelves continually from the large inventory of presorted quality books that are donated by the community members and housed in the Friends&rsquo\; warehouse\, so the shelves are always full. The Friends of the Poughkeepsie Public Library District is an all-volunteer organization that supports the district&rsquo\;s programs and services. The Book Store is open from 10 a.m. to 4 p.m. every Tuesday\, Thursday and Saturday. The Book Store is located at the Boardman Road Branch Library (entrance behind the Library on the south side)\, 141 Boardman Rd.\, Poughkeepsie. Look for the blue awning. For more information about the Book Store\, call 845-485-3445 x. 3423 or visit www.facebook.com/PoughkeepsieLibraryBookstore/timeline.
LOCATION:Friends' Book Store 141 Boardman Road Poughkeepsie\, NY 12603
UID:e.2770.10476626
SEQUENCE:3
DTSTAMP:20260426T005242Z
URL:https://business.dcrcoc.org/events/details/audio-visuals-and-holiday-themed-books-on-sale-starts-dec-2-10476626
END:VEVENT

END:VCALENDAR
