BEGIN:VCALENDAR
VERSION:2.0
PRODID:-//ChamberMaster//Event Calendar 2.0//EN
METHOD:PUBLISH
X-PUBLISHED-TTL:P3D
REFRESH-INTERVAL:P3D
CALSCALE:GREGORIAN
BEGIN:VEVENT
DTSTART:20180815T113000Z
DTEND:20180815T130000Z
X-MICROSOFT-CDO-ALLDAYEVENT:FALSE
SUMMARY:August Contact Breakfast
DESCRIPTION:***Reservations after 5:00 PM on Tuesday August 14th:  \n\nPlease report to the UNPAID table at the breakfast.\n\nMember walk-in fee: $30.00\n\nNon-Member walk-in fee: $35.00\n\n\n\nMonthly contact breakfast featuring Dutchess Tourism's President & CEO\, Mary Kay Vrba to discuss the impact on the economy as well as future initiatives\, what is on the horizon.\n\n\n\nAs you all know\, there are many people in need of our assistance. The Chamber's Ambassador committee has partnered with our Workforce Development Center to collect canned and dry goods at our Contact Breakfast. Your donations are greatly appreciated.\n\n\n\nSponsored by: TEG Federal Credit Union\n\n\n\nNonprofits: Angels of Light\, Greystone Programs\, \n\nUnited Way of Dutchess-Orange Region
X-ALT-DESC;FMTTYPE=text/html:<p><span style="font-size: 14px\;"><span style="font-family: arial\;"><span style="color:#FF0000\;">***Reservations after 5:00 PM on Tuesday August 14th:&nbsp\;&nbsp\;<br />\nPlease report to the UNPAID table at the breakfast.<br />\nMember walk-in fee: $30.00<br />\nNon-Member walk-in fee: $35.00</span><br />\n<br />\nMonthly contact breakfast featuring <strong>Dutchess Tourism&#39\;s President &amp\; CEO\, Mary Kay Vrba</strong> to discuss the impact on the economy as well as future initiatives\, what is on the horizon.<br />\n<br />\n<strong style="color: rgb(51\, 51\, 51)\; font-family: sans-serif\, Arial\, Verdana\, &quot\;Trebuchet MS&quot\;\; font-size: 13px\; background-color: rgb(255\, 255\, 255)\;">As you all know\, there are many people in need of our assistance. The Chamber&#39\;s Ambassador committee has partnered with our Workforce Development Center to collect canned and dry goods at our Contact Breakfast. Your donations are greatly appreciated.</strong><br />\n<br />\n<strong>Sponsored by: <a href="https://www.tegfcu.com/"><span style="color:#0000FF\;">TEG Federal Credit Union</span></a></strong></span></span><br />\n<br />\n<strong><span style="font-family: Arial\, Helvetica\, &quot\;MS Sans Serif&quot\;\, sans-serif\;"><span style="font-size: 14px\;"><span style="font-family: arial\;">Nonprofits: <a href="http://www.angelsoflighthudsonvalley.org" target="_blank"><span style="color:#0000FF\;">Angels of Light</span></a><font color="#0000ff">\, </font><a href="http://www.greystoneprograms.org" target="_blank"><span style="color:#0000FF\;">Greystone&nbsp\;Programs</span></a><font color="#0000ff">\, </font><br />\n<a href="http://www.uwdor.org" target="_blank"><span style="color:#0000FF\;">United&nbsp\;Way of Dutchess-Orange&nbsp\;Region</span></a></span></span></span></strong></p>\n
LOCATION:The Poughkeepsie Grand Hotel & Conference Center 40 Civic Center Plaza Poughkeepsie\, NY 12601
UID:e.2770.10476492
SEQUENCE:3
DTSTAMP:20260425T143304Z
URL:https://business.dcrcoc.org/events/details/august-contact-breakfast-10476492
END:VEVENT

END:VCALENDAR
