BEGIN:VCALENDAR
VERSION:2.0
PRODID:-//ChamberMaster//Event Calendar 2.0//EN
METHOD:PUBLISH
X-PUBLISHED-TTL:P3D
REFRESH-INTERVAL:P3D
CALSCALE:GREGORIAN
BEGIN:VEVENT
DTSTART:20191105T230000Z
DTEND:20191106T020000Z
X-MICROSOFT-CDO-ALLDAYEVENT:FALSE
SUMMARY:Aumente Sus Ventas a Través de Redes Sociales y Sitio Web
DESCRIPTION:En este taller gratis aprender  acerca de: \n\nSitios Web\n\n\n	 Qu  es un sitio web?   Por qu  es necesario para su empresa?\n	Ventajas y desventajas de hacer su propio sitio web\n	Comparaci n de la experiencia entre hacerlo usted y contratar a alguien\n\n\n\n\nRedes Sociales\n\n\n	Facebook\, Instagram\, Twitter\, LinkedIn y Pinterest\n	 Qui n es el p blico para cada uno?\n	 Cu l es la mejor plataforma para su negocio?
X-ALT-DESC;FMTTYPE=text/html:<p><span style="font-size:16px"><em>En este taller gratis aprender&aacute\; acerca de:&nbsp\;</em><br />\n<strong>Sitios Web</strong></span></p>\n\n<ul>\n	<li><span style="font-size:16px">&iquest\;Qu&eacute\; es un sitio web?&nbsp\; &iquest\;Por qu&eacute\; es necesario para su empresa?</span></li>\n	<li><span style="font-size:16px"><span style="font-size:16px">Ventajas y desventajas de hacer su propio sitio web</span></span></li>\n	<li><span style="font-size:16px"><span style="font-size:16px">Comparaci&oacute\;n de la experiencia entre hacerlo usted y contratar a alguien</span></span></li>\n</ul>\n\n<p><br />\n<span style="font-size:16px"><strong>Redes Sociales</strong></span></p>\n\n<ul>\n	<li><span style="font-size:16px">Facebook\, Instagram\, Twitter\, LinkedIn y Pinterest</span></li>\n	<li><span style="font-size:16px"><span style="font-size:16px">&iquest\;Qui&eacute\;n es el p&uacute\;blico para cada uno?</span></span></li>\n	<li><span style="font-size:16px"><span style="font-size:16px">&iquest\;Cu&aacute\;l es la mejor plataforma para su negocio?</span></span></li>\n</ul>\n
LOCATION:Biblioteca Gratuita de Newburgh 124 Grand St. Newburgh\, NY 12550
UID:e.2770.10481390
SEQUENCE:3
DTSTAMP:20260422T170954Z
URL:https://business.dcrcoc.org/events/details/aumente-sus-ventas-a-trav&#233;s-de-redes-sociales-y-sitio-web-10481390
END:VEVENT

END:VCALENDAR
