BEGIN:VCALENDAR
VERSION:2.0
PRODID:-//ChamberMaster//Event Calendar 2.0//EN
METHOD:PUBLISH
X-PUBLISHED-TTL:P3D
REFRESH-INTERVAL:P3D
CALSCALE:GREGORIAN
BEGIN:VEVENT
DTSTART:20190223T161500Z
DTEND:20190223T170000Z
X-MICROSOFT-CDO-ALLDAYEVENT:FALSE
SUMMARY:Aura-Soma Info Session
DESCRIPTION:This free information session introduces you to the healing energies of Aura-Soma Colour Therapy.\n\nLearn how the living energies of crystals\, gems\, plants\, and colours can help you reach your highest potential.\n\nConnect with your subconscious and let your inner voice speak to you.
X-ALT-DESC;FMTTYPE=text/html:This free information session introduces you to the healing energies of Aura-Soma Colour Therapy.<br />\nLearn how the living energies of crystals\, gems\, plants\, and colours can help you reach your highest potential.<br />\nConnect with your subconscious and let your inner voice speak to you.&nbsp\;
LOCATION:Source NY 143 Boardman Rd\, Bldg 3 Poughkeepsie\, NY
UID:e.2770.10480455
SEQUENCE:3
DTSTAMP:20260423T112020Z
URL:https://business.dcrcoc.org/events/details/aura-soma-info-session-10480455
END:VEVENT

END:VCALENDAR
