BEGIN:VCALENDAR
VERSION:2.0
PRODID:-//ChamberMaster//Event Calendar 2.0//EN
METHOD:PUBLISH
X-PUBLISHED-TTL:P3D
REFRESH-INTERVAL:P3D
CALSCALE:GREGORIAN
BEGIN:VEVENT
DTSTART:20200418T130000Z
DTEND:20200418T170000Z
X-MICROSOFT-CDO-ALLDAYEVENT:FALSE
SUMMARY:Autism Community Field Day
DESCRIPTION:EVENT IS RAIN OR SHINE Information\, Games\, & Activities for all those who are in attendance! Become a member of the autism community by sponsoring this unique Hudson Valley event! On April 18th\, 2020 the Dutchess County Fairgrounds in beautiful Rhinebeck\, NY will be filled with individuals with autism\, their friends and family\, and members of the Hudson Valley autism community as we raise awareness about autism and raise funds to increase local resources and opportunities for people with autism. Funds raised will go directly back into the hands of Hudson Valley families\, individuals living with autism and service providers\, through a simple grant process overseen by a community review board.
X-ALT-DESC;FMTTYPE=text/html:EVENT IS RAIN OR SHINE Information\, Games\, &amp\; Activities for all those who are in attendance! Become a member of the autism community by sponsoring this unique Hudson Valley event! On April 18th\, 2020 the Dutchess County Fairgrounds in beautiful Rhinebeck\, NY will be filled with individuals with autism\, their friends and family\, and members of the Hudson Valley autism community as we raise awareness about autism and raise funds to increase local resources and opportunities for people with autism. Funds raised will go directly back into the hands of Hudson Valley families\, individuals living with autism and service providers\, through a simple grant process overseen by a community review board.
LOCATION:Dutchess County Fairgrounds 6636 U.S. 9 Rhinebeck\, NY 12572
UID:e.2770.10482698
SEQUENCE:3
DTSTAMP:20260422T083101Z
URL:https://business.dcrcoc.org/events/details/autism-community-field-day-10482698
END:VEVENT

END:VCALENDAR
