BEGIN:VCALENDAR
VERSION:2.0
PRODID:-//ChamberMaster//Event Calendar 2.0//EN
METHOD:PUBLISH
X-PUBLISHED-TTL:P3D
REFRESH-INTERVAL:P3D
CALSCALE:GREGORIAN
BEGIN:VEVENT
DTSTART:20260429T220000Z
DTEND:20260429T230000Z
X-MICROSOFT-CDO-ALLDAYEVENT:FALSE
SUMMARY:AutoDefensa
DESCRIPTION:Self-Defense Workshop for Students & Parents\n\nJoin us for an informative and empowering self-defense workshop designed for middle and high school students and their parents. This session will focus on building awareness\, confidence\, and practical strategies to stay safe in everyday situations.\n\nLed by experienced presenters Fiona Rattray and Patricia Lucio-Penn\, this workshop offers valuable guidance for both students and families in a supportive and educational environment.\n\nWhether you're looking to boost confidence\, learn prevention techniques\, or better understand personal safety\, this session is a great opportunity to gain essential skills together.
X-ALT-DESC;FMTTYPE=text/html:<p><strong>Self-Defense Workshop for Students &amp\; Parents</strong></p>\n\n<p>Join us for an informative and empowering self-defense workshop designed for middle and high school students and their parents. This session will focus on building awareness\, confidence\, and practical strategies to stay safe in everyday situations.</p>\n\n<p>Led by experienced presenters <strong>Fiona Rattray</strong> and <strong>Patricia Lucio-Penn</strong>\, this workshop offers valuable guidance for both students and families in a supportive and educational environment.</p>\n\n<p>Whether you&#39\;re looking to boost confidence\, learn prevention techniques\, or better understand personal safety\, this session is a great opportunity to gain essential skills together.</p>\n
LOCATION:Location: Pawling Library\, 11 Broad St\, Pawling
UID:e.2770.10501354
SEQUENCE:3
DTSTAMP:20260424T090233Z
URL:https://business.dcrcoc.org/events/details/autodefensa-10501354
END:VEVENT

END:VCALENDAR
