BEGIN:VCALENDAR
VERSION:2.0
PRODID:-//ChamberMaster//Event Calendar 2.0//EN
METHOD:PUBLISH
X-PUBLISHED-TTL:P3D
REFRESH-INTERVAL:P3D
CALSCALE:GREGORIAN
BEGIN:VEVENT
DTSTART:20180819T150000Z
DTEND:20180819T180000Z
X-MICROSOFT-CDO-ALLDAYEVENT:FALSE
SUMMARY:Back To School Carnival
DESCRIPTION:The Grand Rehabilitation and Nursing at River Valley is pleased to host our annual Back to School Carnival on August 19th from 11:00AM-2:00PM. Please feel free to bring your family & friends. There'll be a huge BBQ\, lots of snacks\, inflatables\, tons of games\, a DJ\, giveaways\, raffles & more.
X-ALT-DESC;FMTTYPE=text/html:The Grand Rehabilitation and Nursing at River Valley is pleased to host our annual Back to School Carnival on August 19th from 11:00AM-2:00PM. Please feel free to bring your family &amp\; friends. There&rsquo\;ll be a huge BBQ\, lots of snacks\, inflatables\, tons of games\, a DJ\, giveaways\, raffles &amp\; more.
LOCATION:140 Main Street Poughkeepsie\, NY\, 12601
UID:e.2770.10479448
SEQUENCE:3
DTSTAMP:20260425T143920Z
URL:https://business.dcrcoc.org/events/details/back-to-school-carnival-10479448
END:VEVENT

END:VCALENDAR
