BEGIN:VCALENDAR
VERSION:2.0
PRODID:-//ChamberMaster//Event Calendar 2.0//EN
METHOD:PUBLISH
X-PUBLISHED-TTL:P3D
REFRESH-INTERVAL:P3D
CALSCALE:GREGORIAN
BEGIN:VEVENT
DTSTART:20180710T180000Z
DTEND:20180710T200000Z
X-MICROSOFT-CDO-ALLDAYEVENT:FALSE
SUMMARY:Barrett Art Center Collector's Circle: Eric Lindbloom
DESCRIPTION:Barrett Art Center Collector's Circle: Eric Lindbloom\n\n\n\nEric Lindbloom will guide us through Eric Lindbloom\, A Retrospective in Vassar College's Palmer Gallery\, followed by a visit to Thompson Memorial Library Special Collections to view Lindbloom's limited edition art books\, ending with light refreshments in the Sculpture Garden at Frances Lehman Loeb Art Center. \n\n \n\n$25 per person- SPACE IS LIMITED\n\n \n\nTo make a reservation please visit- http://www.barrettartcenter.org/lindbloom-collectors-circle\n\nOR email- info@barrettartcenter.org
X-ALT-DESC;FMTTYPE=text/html:<strong><u><span style="font-size:14px">Barrett Art Center Collector&#39\;s Circle: Eric Lindbloom</span></u></strong><br />\n<br />\nEric Lindbloom will guide us through Eric Lindbloom\, A Retrospective in Vassar College&rsquo\;s Palmer Gallery\, followed by a visit to Thompson Memorial Library Special Collections to view Lindbloom&rsquo\;s limited edition art books\, ending with light refreshments in the Sculpture Garden at Frances Lehman Loeb Art Center.&nbsp\;<br />\n&nbsp\;<br />\n<strong>$25 per person- SPACE IS LIMITED</strong><br />\n&nbsp\;<br />\nTo make a reservation please visit- <a href="http://www.barrettartcenter.org/collectorscirclemain/">http://www.barrettartcenter.org/lindbloom-collectors-circle</a><br />\nOR email- <strong>info@barrettartcenter.org</strong>
LOCATION:Barrett Art Center Collector's Circle: Eric Lindbloom Eric Lindbloom will guide us through Eric Lindbloom\, A Retrospective in Vassar College's Palmer Gallery\, followed by a visit to Thompson Memorial Library Special Collections to view Lindbloom's limited edition art books\, ending with light refreshments in the Sculpture Garden at Frances Lehman Loeb Art Center. $25 per person- SPACE IS LIMITED To make a reservation please visit- http://www.barrettartcenter.org/lindbloom-collectors-circle OR email- info@barrettartcenter.org
UID:e.2770.10477852
SEQUENCE:3
DTSTAMP:20260425T155124Z
URL:https://business.dcrcoc.org/events/details/barrett-art-center-collector-s-circle-eric-lindbloom-10477852
END:VEVENT

END:VCALENDAR
