BEGIN:VCALENDAR
VERSION:2.0
PRODID:-//ChamberMaster//Event Calendar 2.0//EN
METHOD:PUBLISH
X-PUBLISHED-TTL:P3D
REFRESH-INTERVAL:P3D
CALSCALE:GREGORIAN
BEGIN:VEVENT
DTSTART:20180818T160000Z
DTEND:20180818T190000Z
X-MICROSOFT-CDO-ALLDAYEVENT:FALSE
SUMMARY:Barrett Art Center: Paper Sculpture Workshop with Xuewu Zheng
DESCRIPTION:Explore the unique "newspaper installation" process of artist Xuewu Zheng during this hands-on workshop\, and create a paper sculpture of your own to take home!\n\n$5 suggested donation\, no one turned away due to lack of funds\, open to adults and teens.\n\nMaterials provided but more welcome -- we have started a newspaper collection here at Barrett but please feel free to bring your own to the workshop!\n\nSpace is limited \n\nRSVP by Wednesday Aug. 15 to email- info@barrettartcenter.org (subject line "Paper Workshop 8/18") or call: 845-471-2550
X-ALT-DESC;FMTTYPE=text/html:<p>Explore the unique &quot\;newspaper installation&quot\; process of artist&nbsp\;<strong><span style="background-color:transparent\; color:inherit\; font-size:inherit">Xuewu</span>&nbsp\;<span style="background-color:transparent\; color:inherit\; font-size:inherit">Zheng</span></strong>&nbsp\;during this hands-on workshop\, and create a paper sculpture of your own to take home!</p>\n\n<p>$5 suggested donation\, no one turned away due to lack of funds\, open to adults and teens.</p>\n\n<p>Materials provided but more welcome -- we have started a newspaper collection here at Barrett but please feel free to bring your own to the workshop!</p>\n\n<p><strong>Space is limited</strong>&nbsp\;</p>\n\n<p>RSVP by Wednesday Aug. 15&nbsp\;to email- info@barrettartcenter.org (subject line &quot\;Paper Workshop 8/18&quot\;) or call: 845-471-2550</p>\n
LOCATION:Barrett Art Center 55 Noxon Street\, Poughkeepsie\, NY 12601
UID:e.2770.10479428
SEQUENCE:3
DTSTAMP:20260425T144737Z
URL:https://business.dcrcoc.org/events/details/barrett-art-center-paper-sculpture-workshop-with-xuewu-zheng-10479428
END:VEVENT

END:VCALENDAR
