BEGIN:VCALENDAR
VERSION:2.0
PRODID:-//ChamberMaster//Event Calendar 2.0//EN
METHOD:PUBLISH
X-PUBLISHED-TTL:P3D
REFRESH-INTERVAL:P3D
CALSCALE:GREGORIAN
BEGIN:VEVENT
DTSTART:20180310T200000Z
DTEND:20180310T213000Z
X-MICROSOFT-CDO-ALLDAYEVENT:FALSE
SUMMARY:Barrett Art Center Presents- Photowork 2018
DESCRIPTION:Join us at BAC to speak with some of the local artists featured in Photoworks 2018! The Artists' Talks are free and open to the public. Reception to follow the discussions. Saturday\, March 10\, 3-4:30 pm Featuring local photographers Jim Allen (Millbrook)\, Evan D'Arpino (Beacon)\, David King (Lagrangeville)\, Julie Mihaly (Poughkeepsie) and Les Muldorf (Poughkeepsie).
X-ALT-DESC;FMTTYPE=text/html:Join us at BAC to speak with some of the local artists featured in Photoworks 2018! The Artists&#39\; Talks are free and open to the public. Reception to follow the discussions. Saturday\, March 10\, 3-4:30 pm Featuring local photographers Jim Allen (Millbrook)\, Evan D&rsquo\;Arpino (Beacon)\, David King (Lagrangeville)\, Julie Mihaly (Poughkeepsie) and Les Muldorf (Poughkeepsie).
LOCATION:DCAA/Barrett Art Center- 55 Noxon Road\, Poughkeepsie\, NY 12601
UID:e.2770.10476789
SEQUENCE:3
DTSTAMP:20260425T210745Z
URL:https://business.dcrcoc.org/events/details/barrett-art-center-presents-photowork-2018-10476789
END:VEVENT

END:VCALENDAR
