BEGIN:VCALENDAR
VERSION:2.0
PRODID:-//ChamberMaster//Event Calendar 2.0//EN
METHOD:PUBLISH
X-PUBLISHED-TTL:P3D
REFRESH-INTERVAL:P3D
CALSCALE:GREGORIAN
BEGIN:VEVENT
DTSTART:20180225T180000Z
DTEND:20180225T190000Z
X-MICROSOFT-CDO-ALLDAYEVENT:FALSE
SUMMARY:Barrett Art Center Presents: Photowork 2018 Artist Talks
DESCRIPTION:Join us at BAC to speak with some of the local artists featured in Photoworks 2018! The Artists' Talks are free and open to the public. Reception to follow the discussions. Sunday\, February 25\, 1-2pm Local Photographers Sasha Bush (Poughkeepsie & Long Island City)\; Trevor Messersmith (Marlboro)\, and Tad Philipp (Hyde Park)
X-ALT-DESC;FMTTYPE=text/html:Join us at BAC to speak with some of the local artists featured in Photoworks 2018! The Artists&#39\; Talks are free and open to the public. Reception to follow the discussions. Sunday\, February 25\, 1-2pm Local Photographers Sasha Bush (Poughkeepsie &amp\; Long Island City)\; Trevor Messersmith (Marlboro)\, and Tad Philipp (Hyde Park)
LOCATION:DCAA/Barrett Art Center- 55 Noxon Road\, Poughkeepsie\, NY 12601
UID:e.2770.10476788
SEQUENCE:3
DTSTAMP:20260425T232522Z
URL:https://business.dcrcoc.org/events/details/barrett-art-center-presents-photowork-2018-artist-talks-10476788
END:VEVENT

END:VCALENDAR
