BEGIN:VCALENDAR
VERSION:2.0
PRODID:-//ChamberMaster//Event Calendar 2.0//EN
METHOD:PUBLISH
X-PUBLISHED-TTL:P3D
REFRESH-INTERVAL:P3D
CALSCALE:GREGORIAN
BEGIN:VEVENT
DTSTART:20171019T230000Z
DTEND:20171020T010000Z
X-MICROSOFT-CDO-ALLDAYEVENT:FALSE
SUMMARY:Barrett's Bootleggers Bash: 2nd Annual Fall Fundraiser
DESCRIPTION:Barrett Art Center's fall fundraiser\, Barrett's Bootleggers Bash\, looks back to the era of the founding of the Dutchess County Art Association\,  known today as the Barrett Art Center.   The early 1930s both spawned a bootlegging boom in the Hudson Valley and inspired Thomas W. Barrett\, Jr. and a group of interested artists to form the Dutchess County Art Association.  Today\, Barrett Art Center carries on this mission to support community engagement with visual art through national and regional  juried exhibitions and low and no-cost public art programs.  \n\nBarrett's Bootleggers Bash include live musical entertainment and refreshments that celebrate the spirit of the era.  Eleanor Charwat will speak about the history of bootlegging in the Hudson Valley\, followed by an auction.
X-ALT-DESC;FMTTYPE=text/html:<p style="text-align:justify"><span style="font-size:12pt">Barrett Art Center&#39\;s fall fundraiser\,&nbsp\;<strong>Barrett&rsquo\;s Bootleggers Bash</strong>\, looks back to the era of the founding of the Dutchess County Art Association\, &nbsp\;known today as the Barrett Art Center. &nbsp\; The early 1930s both spawned a bootlegging boom in the Hudson Valley and inspired Thomas W. Barrett\, Jr. and a group of interested artists to form the Dutchess County Art Association.&nbsp\;&nbsp\;</span>Today\, Barrett Art Center carries on this mission to support community engagement with visual art through national and regional &nbsp\;juried exhibitions and low and no-cost public art programs.&nbsp\;<span style="font-size:12pt">&nbsp\;</span></p>\n\n<p style="text-align:justify"><strong>Barrett&rsquo\;s Bootleggers Bash&nbsp\;</strong><span style="font-size:12pt">include live musical entertainment and refreshments that celebrate the spirit of the era. &nbsp\;Eleanor Charwat will speak about the history of bootlegging in the Hudson Valley\, followed by an auction.&nbsp\;</span></p>\n
LOCATION:Barrett Art Center 55 Noxon St Poughkeepsie\, NY 12601
UID:e.2770.10476332
SEQUENCE:3
DTSTAMP:20260426T033305Z
URL:https://business.dcrcoc.org/events/details/barrett-s-bootleggers-bash-2nd-annual-fall-fundraiser-10476332
END:VEVENT

END:VCALENDAR
