BEGIN:VCALENDAR
VERSION:2.0
PRODID:-//ChamberMaster//Event Calendar 2.0//EN
METHOD:PUBLISH
X-PUBLISHED-TTL:P3D
REFRESH-INTERVAL:P3D
CALSCALE:GREGORIAN
BEGIN:VEVENT
DTSTART:20180522T230000Z
DTEND:20180523T003000Z
X-MICROSOFT-CDO-ALLDAYEVENT:FALSE
SUMMARY:Be Proactive: Get a Great Start to College!
DESCRIPTION:I am offering this free seminar online using Zoom so we can connect and chat! This seminar is suitable for both parents and students. To register: https://thesavvyscholar.com/events/\n\nREMINDER: THIS IS COMING UP ON TUESDAY\, 5/22!
X-ALT-DESC;FMTTYPE=text/html:<span style="color:rgb(29\, 33\, 41)\; font-family:system-ui\,-apple-system\,system-ui\,.sfnstext-regular\,sans-serif\; font-size:14px">I am offering this free seminar online using Zoom so we can connect and chat! This seminar is suitable for both parents and students. To register:&nbsp\;</span><a href="https://thesavvyscholar.com/events/" rel="noopener nofollow" style="color: rgb(54\, 88\, 153)\; cursor: pointer\; text-decoration-line: none\; font-family: system-ui\, -apple-system\, system-ui\, &quot\;.SFNSText-Regular&quot\;\, sans-serif\; font-size: 14px\;" target="_blank">https://thesavvyscholar.com/events/</a><br />\n<span style="color:rgb(29\, 33\, 41)\; font-family:system-ui\,-apple-system\,system-ui\,.sfnstext-regular\,sans-serif\; font-size:14px">REMINDER: THIS IS COMING UP ON TUESDAY\, 5/22!</span>
LOCATION:Online from the convenience of your home or office.
UID:e.2770.10477827
SEQUENCE:3
DTSTAMP:20260425T181739Z
URL:https://business.dcrcoc.org/events/details/be-proactive-get-a-great-start-to-college-10477827
END:VEVENT

END:VCALENDAR
