BEGIN:VCALENDAR
VERSION:2.0
PRODID:-//ChamberMaster//Event Calendar 2.0//EN
METHOD:PUBLISH
X-PUBLISHED-TTL:P3D
REFRESH-INTERVAL:P3D
CALSCALE:GREGORIAN
BEGIN:VEVENT
DTSTART:20180419T220000Z
DTEND:20180419T234500Z
X-MICROSOFT-CDO-ALLDAYEVENT:FALSE
SUMMARY:Be Proactive - Get a Smart Start to Your College Future
DESCRIPTION:Teens and parents are invited to join us for an informative program that covers the basics of starting your college education. Gayle Chaky\, founder of The Savvy Scholar has a background in higher education and financial services and is uniquely qualified to help guide students and parents through making important decisions like finding a school that is the right fit\,  getting accepted\, and how to pay for your education.Registration is required.
X-ALT-DESC;FMTTYPE=text/html:<span style="font-family:helvetica neue\,helvetica\,arial\,sans-serif">Teens and parents are invited to join us for an informative program that covers the basics of starting your college education. Gayle Chaky\, founder of&nbsp\;</span><a href="http://https//thesavvyscholar.com/" style="box-sizing: border-box\; color: rgb(56\, 135\, 51)\; text-decoration-line: none\; font-family: &quot\;Helvetica Neue&quot\;\, Helvetica\, Arial\, sans-serif\;" target="_self" title="">The Savvy Scholar</a><span style="font-family:helvetica neue\,helvetica\,arial\,sans-serif">&nbsp\;has a background in higher education and financial services and is uniquely qualified to help guide students and parents through making important decisions like finding a school that is the right fit\,&nbsp\; getting accepted\, and how to pay for your education.</span><strong>Registration is required.&nbsp\;</strong>
LOCATION:Highland Public Library Meeting Room 14 Elting Place Highland\, NY
UID:e.2770.10476822
SEQUENCE:3
DTSTAMP:20260425T194912Z
URL:https://business.dcrcoc.org/events/details/be-proactive-get-a-smart-start-to-your-college-future-10476822
END:VEVENT

END:VCALENDAR
