BEGIN:VCALENDAR
VERSION:2.0
PRODID:-//ChamberMaster//Event Calendar 2.0//EN
METHOD:PUBLISH
X-PUBLISHED-TTL:P3D
REFRESH-INTERVAL:P3D
CALSCALE:GREGORIAN
BEGIN:VEVENT
DTSTART:20180430T223000Z
DTEND:20180430T234500Z
X-MICROSOFT-CDO-ALLDAYEVENT:FALSE
SUMMARY:Be Proactive: Get a Smart Start to Your College Future Seminar
DESCRIPTION:Teens and parents are invited to join us for an informative program that covers the basics of starting your college education. Gayle Chaky\, founder of The Savvy Scholar has a background in higher education and financial services and is uniquely qualified to help guide students and parents through making important decisions like finding a school that is the right fit\,  getting accepted\, and how to pay for your education.Registration is required.
X-ALT-DESC;FMTTYPE=text/html:<span style="color:rgb(66\, 66\, 66)\; font-family:helvetica neue\,helvetica\,arial\,sans-serif\; font-size:12px">Teens and parents are invited to join us for an informative program that covers the basics of starting your college education. Gayle Chaky\, founder of&nbsp\;</span><a href="http://https//thesavvyscholar.com/" style="outline: 0px\; margin: 0px\; padding: 0px\; border: 0px\; font-size: 12px\; vertical-align: baseline\; background: rgb(250\, 250\, 250)\; text-decoration-line: none\; color: rgb(56\, 135\, 51)\; box-sizing: border-box\; font-family: &quot\;Helvetica Neue&quot\;\, Helvetica\, Arial\, sans-serif\;" target="_self" title="">The Savvy Scholar</a><span style="color:rgb(66\, 66\, 66)\; font-family:helvetica neue\,helvetica\,arial\,sans-serif\; font-size:12px">&nbsp\;has a background in higher education and financial services and is uniquely qualified to help guide students and parents through making important decisions like finding a school that is the right fit\,&nbsp\; getting accepted\, and how to pay for your education.</span><strong>Registration is required.&nbsp\;</strong>
LOCATION:Butterfield Memorial Library Cold Spring\, NY
UID:e.2770.10477617
SEQUENCE:3
DTSTAMP:20260425T194942Z
URL:https://business.dcrcoc.org/events/details/be-proactive-get-a-smart-start-to-your-college-future-seminar-10477617
END:VEVENT

END:VCALENDAR
