BEGIN:VCALENDAR
VERSION:2.0
PRODID:-//ChamberMaster//Event Calendar 2.0//EN
METHOD:PUBLISH
X-PUBLISHED-TTL:P3D
REFRESH-INTERVAL:P3D
CALSCALE:GREGORIAN
BEGIN:VEVENT
DTSTART:20191021T220000Z
DTEND:20191022T020000Z
X-MICROSOFT-CDO-ALLDAYEVENT:FALSE
SUMMARY:Becoming ATHENA: Leading the Way - Awards Reception
DESCRIPTION:Business Formal Attire Suggested.\n\n\n\n*Please Call (845) 454-1700 Ext. 1000 for Reservations.
X-ALT-DESC;FMTTYPE=text/html:<span style="font-size: 16px\;"><span style="font-family: times new roman\;">Business Formal Attire Suggested.</span></span><br />\n<br />\n<strong><span style="font-size: 14px\;"><span style="font-family: times new roman\;">*Please Call <a href="tel:(845) 454-1700">(845) 454-1700</a> Ext. 1000 for Reservations.</span></span></strong>
LOCATION:The Grandview 176 Rinaldi Boulevard Poughkeepsie
UID:e.2770.10480690
SEQUENCE:3
DTSTAMP:20260422T183022Z
URL:https://business.dcrcoc.org/events/details/becoming-athena-leading-the-way-awards-reception-10480690
END:VEVENT

END:VCALENDAR
